BEGIN:VCALENDAR
VERSION:2.0
PRODID:-//Ballet Philippines - ECPv6.15.17//NONSGML v1.0//EN
CALSCALE:GREGORIAN
METHOD:PUBLISH
X-WR-CALNAME:Ballet Philippines
X-ORIGINAL-URL:https://www.ballet.ph
X-WR-CALDESC:Events for Ballet Philippines
REFRESH-INTERVAL;VALUE=DURATION:PT1H
X-Robots-Tag:noindex
X-PUBLISHED-TTL:PT1H
BEGIN:VTIMEZONE
TZID:Asia/Manila
BEGIN:STANDARD
TZOFFSETFROM:+0800
TZOFFSETTO:+0800
TZNAME:PST
DTSTART:20210101T000000
END:STANDARD
END:VTIMEZONE
BEGIN:VEVENT
DTSTART;TZID=Asia/Manila:20220122T140000
DTEND;TZID=Asia/Manila:20220122T144500
DTSTAMP:20260420T121059
CREATED:20220120T065837Z
LAST-MODIFIED:20220120T065837Z
UID:6386-1642860000-1642862700@www.ballet.ph
SUMMARY:MISHA MARTYNYUK CARDIO TRAINING
DESCRIPTION:
URL:https://www.ballet.ph/bp-event/misha-martynyuk-cardio-training-5/
END:VEVENT
BEGIN:VEVENT
DTSTART;TZID=Asia/Manila:20220122T140000
DTEND;TZID=Asia/Manila:20220122T144500
DTSTAMP:20260420T121059
CREATED:20220120T075241Z
LAST-MODIFIED:20220120T075241Z
UID:6416-1642860000-1642862700@www.ballet.ph
SUMMARY:MISHA MARTYNYUK CARDIO TRAINING
DESCRIPTION:
URL:https://www.ballet.ph/bp-event/misha-martynyuk-cardio-training-10/
END:VEVENT
BEGIN:VEVENT
DTSTART;TZID=Asia/Manila:20220122T150000
DTEND;TZID=Asia/Manila:20220122T170000
DTSTAMP:20260420T121059
CREATED:20220120T070002Z
LAST-MODIFIED:20220120T070002Z
UID:6396-1642863600-1642870800@www.ballet.ph
SUMMARY:JOSEPH PHILLIPS BALLET CLASS
DESCRIPTION:
URL:https://www.ballet.ph/bp-event/joseph-phillips-ballet-class-136/
END:VEVENT
BEGIN:VEVENT
DTSTART;TZID=Asia/Manila:20220122T170000
DTEND;TZID=Asia/Manila:20220122T200000
DTSTAMP:20260420T121059
CREATED:20220120T070315Z
LAST-MODIFIED:20220120T070315Z
UID:6406-1642870800-1642881600@www.ballet.ph
SUMMARY:REHEARSAL
DESCRIPTION:
URL:https://www.ballet.ph/bp-event/rehearsal-110/
END:VEVENT
END:VCALENDAR