BEGIN:VCALENDAR
VERSION:2.0
PRODID:-//Ballet Philippines - ECPv6.15.17//NONSGML v1.0//EN
CALSCALE:GREGORIAN
METHOD:PUBLISH
X-ORIGINAL-URL:https://www.ballet.ph
X-WR-CALDESC:Events for Ballet Philippines
REFRESH-INTERVAL;VALUE=DURATION:PT1H
X-Robots-Tag:noindex
X-PUBLISHED-TTL:PT1H
BEGIN:VTIMEZONE
TZID:Asia/Manila
BEGIN:STANDARD
TZOFFSETFROM:+0800
TZOFFSETTO:+0800
TZNAME:PST
DTSTART:20210101T000000
END:STANDARD
END:VTIMEZONE
BEGIN:VEVENT
DTSTART;TZID=Asia/Manila:20220202T140000
DTEND;TZID=Asia/Manila:20220202T144500
DTSTAMP:20260420T090310
CREATED:20220120T080429Z
LAST-MODIFIED:20220120T080429Z
UID:6445-1643810400-1643813100@www.ballet.ph
SUMMARY:MISHA MARTYNYUK CARDIO TRAINING
DESCRIPTION:
URL:https://www.ballet.ph/bp-event/misha-martynyuk-cardio-training-13/
END:VEVENT
BEGIN:VEVENT
DTSTART;TZID=Asia/Manila:20220202T150000
DTEND;TZID=Asia/Manila:20220202T170000
DTSTAMP:20260420T090310
CREATED:20220120T081710Z
LAST-MODIFIED:20220120T081710Z
UID:6486-1643814000-1643821200@www.ballet.ph
SUMMARY:JOSEPH PHILLIPS BALLET CLASS
DESCRIPTION:
URL:https://www.ballet.ph/bp-event/joseph-phillips-ballet-class-143/
END:VEVENT
BEGIN:VEVENT
DTSTART;TZID=Asia/Manila:20220202T170000
DTEND;TZID=Asia/Manila:20220202T200000
DTSTAMP:20260420T090310
CREATED:20220120T081950Z
LAST-MODIFIED:20220120T081950Z
UID:6506-1643821200-1643832000@www.ballet.ph
SUMMARY:REHEARSAL
DESCRIPTION:
URL:https://www.ballet.ph/bp-event/rehearsal-117/
END:VEVENT
END:VCALENDAR