BEGIN:VCALENDAR
VERSION:2.0
PRODID:-//Ballet Philippines - ECPv6.15.17//NONSGML v1.0//EN
CALSCALE:GREGORIAN
METHOD:PUBLISH
X-WR-CALNAME:Ballet Philippines
X-ORIGINAL-URL:https://www.ballet.ph
X-WR-CALDESC:Events for Ballet Philippines
REFRESH-INTERVAL;VALUE=DURATION:PT1H
X-Robots-Tag:noindex
X-PUBLISHED-TTL:PT1H
BEGIN:VTIMEZONE
TZID:Asia/Manila
BEGIN:STANDARD
TZOFFSETFROM:+0800
TZOFFSETTO:+0800
TZNAME:PST
DTSTART:20210101T000000
END:STANDARD
END:VTIMEZONE
BEGIN:VEVENT
DTSTART;TZID=Asia/Manila:20220205T140000
DTEND;TZID=Asia/Manila:20220205T144500
DTSTAMP:20260420T085948
CREATED:20220120T080500Z
LAST-MODIFIED:20220120T080500Z
UID:6448-1644069600-1644072300@www.ballet.ph
SUMMARY:MISHA MARTYNYUK CARDIO TRAINING
DESCRIPTION:
URL:https://www.ballet.ph/bp-event/misha-martynyuk-cardio-training-16/
END:VEVENT
BEGIN:VEVENT
DTSTART;TZID=Asia/Manila:20220205T150000
DTEND;TZID=Asia/Manila:20220205T170000
DTSTAMP:20260420T085948
CREATED:20220120T081737Z
LAST-MODIFIED:20220120T081737Z
UID:6489-1644073200-1644080400@www.ballet.ph
SUMMARY:JOSEPH PHILLIPS BALLET CLASS
DESCRIPTION:
URL:https://www.ballet.ph/bp-event/joseph-phillips-ballet-class-146/
END:VEVENT
BEGIN:VEVENT
DTSTART;TZID=Asia/Manila:20220205T170000
DTEND;TZID=Asia/Manila:20220205T200000
DTSTAMP:20260420T085948
CREATED:20220120T082034Z
LAST-MODIFIED:20220120T082034Z
UID:6509-1644080400-1644091200@www.ballet.ph
SUMMARY:REHEARSAL
DESCRIPTION:
URL:https://www.ballet.ph/bp-event/rehearsal-120/
END:VEVENT
END:VCALENDAR