BEGIN:VCALENDAR
VERSION:2.0
PRODID:-//Ballet Philippines - ECPv6.15.17//NONSGML v1.0//EN
CALSCALE:GREGORIAN
METHOD:PUBLISH
X-WR-CALNAME:Ballet Philippines
X-ORIGINAL-URL:https://www.ballet.ph
X-WR-CALDESC:Events for Ballet Philippines
REFRESH-INTERVAL;VALUE=DURATION:PT1H
X-Robots-Tag:noindex
X-PUBLISHED-TTL:PT1H
BEGIN:VTIMEZONE
TZID:Asia/Manila
BEGIN:STANDARD
TZOFFSETFROM:+0800
TZOFFSETTO:+0800
TZNAME:PST
DTSTART:20210101T000000
END:STANDARD
END:VTIMEZONE
BEGIN:VEVENT
DTSTART;TZID=Asia/Manila:20220210T140000
DTEND;TZID=Asia/Manila:20220210T144500
DTSTAMP:20260420T090032
CREATED:20220120T080544Z
LAST-MODIFIED:20220120T080544Z
UID:6452-1644501600-1644504300@www.ballet.ph
SUMMARY:MISHA MARTYNYUK CARDIO TRAINING
DESCRIPTION:
URL:https://www.ballet.ph/bp-event/misha-martynyuk-cardio-training-19/
END:VEVENT
BEGIN:VEVENT
DTSTART;TZID=Asia/Manila:20220210T150000
DTEND;TZID=Asia/Manila:20220210T170000
DTSTAMP:20260420T090032
CREATED:20220120T081812Z
LAST-MODIFIED:20220120T081812Z
UID:6492-1644505200-1644512400@www.ballet.ph
SUMMARY:JOSEPH PHILLIPS BALLET CLASS
DESCRIPTION:
URL:https://www.ballet.ph/bp-event/joseph-phillips-ballet-class-149/
END:VEVENT
BEGIN:VEVENT
DTSTART;TZID=Asia/Manila:20220210T170000
DTEND;TZID=Asia/Manila:20220210T200000
DTSTAMP:20260420T090032
CREATED:20220120T082138Z
LAST-MODIFIED:20220120T082138Z
UID:6512-1644512400-1644523200@www.ballet.ph
SUMMARY:REHEARSAL
DESCRIPTION:
URL:https://www.ballet.ph/bp-event/rehearsal-125/
END:VEVENT
END:VCALENDAR