BEGIN:VCALENDAR
VERSION:2.0
PRODID:-//Ballet Philippines - ECPv6.15.17//NONSGML v1.0//EN
CALSCALE:GREGORIAN
METHOD:PUBLISH
X-WR-CALNAME:Ballet Philippines
X-ORIGINAL-URL:https://www.ballet.ph
X-WR-CALDESC:Events for Ballet Philippines
REFRESH-INTERVAL;VALUE=DURATION:PT1H
X-Robots-Tag:noindex
X-PUBLISHED-TTL:PT1H
BEGIN:VTIMEZONE
TZID:Asia/Manila
BEGIN:STANDARD
TZOFFSETFROM:+0800
TZOFFSETTO:+0800
TZNAME:PST
DTSTART:20210101T000000
END:STANDARD
END:VTIMEZONE
BEGIN:VEVENT
DTSTART;TZID=Asia/Manila:20220222T140000
DTEND;TZID=Asia/Manila:20220222T144500
DTSTAMP:20260420T085913
CREATED:20220120T080803Z
LAST-MODIFIED:20220120T080803Z
UID:6470-1645538400-1645541100@www.ballet.ph
SUMMARY:MISHA MARTYNYUK CARDIO TRAINING
DESCRIPTION:
URL:https://www.ballet.ph/bp-event/misha-martynyuk-cardio-training-26/
END:VEVENT
BEGIN:VEVENT
DTSTART;TZID=Asia/Manila:20220222T150000
DTEND;TZID=Asia/Manila:20220222T170000
DTSTAMP:20260420T085913
CREATED:20220120T091304Z
LAST-MODIFIED:20220120T091304Z
UID:6531-1645542000-1645549200@www.ballet.ph
SUMMARY:JOSEPH PHILLIPS BALLET CLASS
DESCRIPTION:
URL:https://www.ballet.ph/bp-event/joseph-phillips-ballet-class-157/
END:VEVENT
BEGIN:VEVENT
DTSTART;TZID=Asia/Manila:20220222T170000
DTEND;TZID=Asia/Manila:20220222T200000
DTSTAMP:20260420T085913
CREATED:20220120T091526Z
LAST-MODIFIED:20220120T091526Z
UID:6551-1645549200-1645560000@www.ballet.ph
SUMMARY:REHEARSAL
DESCRIPTION:
URL:https://www.ballet.ph/bp-event/rehearsal-131/
END:VEVENT
END:VCALENDAR