BEGIN:VCALENDAR
VERSION:2.0
PRODID:-//Ballet Philippines - ECPv6.15.17//NONSGML v1.0//EN
CALSCALE:GREGORIAN
METHOD:PUBLISH
X-ORIGINAL-URL:https://www.ballet.ph
X-WR-CALDESC:Events for Ballet Philippines
REFRESH-INTERVAL;VALUE=DURATION:PT1H
X-Robots-Tag:noindex
X-PUBLISHED-TTL:PT1H
BEGIN:VTIMEZONE
TZID:Asia/Manila
BEGIN:STANDARD
TZOFFSETFROM:+0800
TZOFFSETTO:+0800
TZNAME:PST
DTSTART:20210101T000000
END:STANDARD
END:VTIMEZONE
BEGIN:VEVENT
DTSTART;TZID=Asia/Manila:20220226T140000
DTEND;TZID=Asia/Manila:20220226T144500
DTSTAMP:20260420T090312
CREATED:20220120T080845Z
LAST-MODIFIED:20220120T080845Z
UID:6474-1645884000-1645886700@www.ballet.ph
SUMMARY:MISHA MARTYNYUK CARDIO TRAINING
DESCRIPTION:
URL:https://www.ballet.ph/bp-event/misha-martynyuk-cardio-training-30/
END:VEVENT
BEGIN:VEVENT
DTSTART;TZID=Asia/Manila:20220226T150000
DTEND;TZID=Asia/Manila:20220226T170000
DTSTAMP:20260420T090312
CREATED:20220120T091332Z
LAST-MODIFIED:20220120T091332Z
UID:6535-1645887600-1645894800@www.ballet.ph
SUMMARY:JOSEPH PHILLIPS BALLET CLASS
DESCRIPTION:
URL:https://www.ballet.ph/bp-event/joseph-phillips-ballet-class-161/
END:VEVENT
BEGIN:VEVENT
DTSTART;TZID=Asia/Manila:20220226T170000
DTEND;TZID=Asia/Manila:20220226T200000
DTSTAMP:20260420T090312
CREATED:20220120T091639Z
LAST-MODIFIED:20220120T091639Z
UID:6555-1645894800-1645905600@www.ballet.ph
SUMMARY:REHEARSAL
DESCRIPTION:
URL:https://www.ballet.ph/bp-event/rehearsal-135/
END:VEVENT
END:VCALENDAR