BEGIN:VCALENDAR
VERSION:2.0
PRODID:-//Ballet Philippines - ECPv6.15.17//NONSGML v1.0//EN
CALSCALE:GREGORIAN
METHOD:PUBLISH
X-ORIGINAL-URL:https://www.ballet.ph
X-WR-CALDESC:Events for Ballet Philippines
REFRESH-INTERVAL;VALUE=DURATION:PT1H
X-Robots-Tag:noindex
X-PUBLISHED-TTL:PT1H
BEGIN:VTIMEZONE
TZID:Asia/Manila
BEGIN:STANDARD
TZOFFSETFROM:+0800
TZOFFSETTO:+0800
TZNAME:PST
DTSTART:20210101T000000
END:STANDARD
END:VTIMEZONE
BEGIN:VEVENT
DTSTART;TZID=Asia/Manila:20220308T100000
DTEND;TZID=Asia/Manila:20220308T113000
DTSTAMP:20260420T090246
CREATED:20220301T064059Z
LAST-MODIFIED:20220301T064059Z
UID:6767-1646733600-1646739000@www.ballet.ph
SUMMARY:JOSEPH PHILLIPS OPEN CLASS
DESCRIPTION:
URL:https://www.ballet.ph/bp-event/joseph-phillips-open-class/
END:VEVENT
BEGIN:VEVENT
DTSTART;TZID=Asia/Manila:20220308T140000
DTEND;TZID=Asia/Manila:20220308T143000
DTSTAMP:20260420T090246
CREATED:20220301T064604Z
LAST-MODIFIED:20220301T064604Z
UID:6804-1646748000-1646749800@www.ballet.ph
SUMMARY:MISHA MARTYNYUK GYMNASTIC EXERCISE
DESCRIPTION:
URL:https://www.ballet.ph/bp-event/misha-martynyuk-gymnastic-exercise-6/
END:VEVENT
BEGIN:VEVENT
DTSTART;TZID=Asia/Manila:20220308T144500
DTEND;TZID=Asia/Manila:20220308T163000
DTSTAMP:20260420T090246
CREATED:20220301T064718Z
LAST-MODIFIED:20220301T064718Z
UID:6814-1646750700-1646757000@www.ballet.ph
SUMMARY:MISHA MARTYNYUK COMPANY CLASS
DESCRIPTION:
URL:https://www.ballet.ph/bp-event/misha-martynyuk-company-class-47/
END:VEVENT
BEGIN:VEVENT
DTSTART;TZID=Asia/Manila:20220308T164500
DTEND;TZID=Asia/Manila:20220308T200000
DTSTAMP:20260420T090246
CREATED:20220301T052937Z
LAST-MODIFIED:20220301T052937Z
UID:6732-1646757900-1646769600@www.ballet.ph
SUMMARY:COMPANY REHEARSAL
DESCRIPTION:
URL:https://www.ballet.ph/bp-event/company-rehearsal-6/
END:VEVENT
END:VCALENDAR