BEGIN:VCALENDAR
VERSION:2.0
PRODID:-//Ballet Philippines - ECPv6.15.17//NONSGML v1.0//EN
CALSCALE:GREGORIAN
METHOD:PUBLISH
X-ORIGINAL-URL:https://www.ballet.ph
X-WR-CALDESC:Events for Ballet Philippines
REFRESH-INTERVAL;VALUE=DURATION:PT1H
X-Robots-Tag:noindex
X-PUBLISHED-TTL:PT1H
BEGIN:VTIMEZONE
TZID:Asia/Manila
BEGIN:STANDARD
TZOFFSETFROM:+0800
TZOFFSETTO:+0800
TZNAME:PST
DTSTART:20210101T000000
END:STANDARD
END:VTIMEZONE
BEGIN:VEVENT
DTSTART;TZID=Asia/Manila:20220309T100000
DTEND;TZID=Asia/Manila:20220309T113000
DTSTAMP:20260420T090431
CREATED:20220301T064103Z
LAST-MODIFIED:20220301T064103Z
UID:6766-1646820000-1646825400@www.ballet.ph
SUMMARY:JOSEPH PHILLIPS OPEN CLASS
DESCRIPTION:
URL:https://www.ballet.ph/bp-event/joseph-phillips-open-class-6/
END:VEVENT
BEGIN:VEVENT
DTSTART;TZID=Asia/Manila:20220309T140000
DTEND;TZID=Asia/Manila:20220309T143000
DTSTAMP:20260420T090431
CREATED:20220301T064607Z
LAST-MODIFIED:20220301T064607Z
UID:6803-1646834400-1646836200@www.ballet.ph
SUMMARY:MISHA MARTYNYUK GYMNASTIC EXERCISE
DESCRIPTION:
URL:https://www.ballet.ph/bp-event/misha-martynyuk-gymnastic-exercise-7/
END:VEVENT
BEGIN:VEVENT
DTSTART;TZID=Asia/Manila:20220309T144500
DTEND;TZID=Asia/Manila:20220309T163000
DTSTAMP:20260420T090431
CREATED:20220301T064722Z
LAST-MODIFIED:20220301T064722Z
UID:6813-1646837100-1646843400@www.ballet.ph
SUMMARY:MISHA MARTYNYUK COMPANY CLASS
DESCRIPTION:
URL:https://www.ballet.ph/bp-event/misha-martynyuk-company-class-48/
END:VEVENT
BEGIN:VEVENT
DTSTART;TZID=Asia/Manila:20220309T164500
DTEND;TZID=Asia/Manila:20220309T200000
DTSTAMP:20260420T090431
CREATED:20220301T052943Z
LAST-MODIFIED:20220301T052943Z
UID:6731-1646844300-1646856000@www.ballet.ph
SUMMARY:COMPANY REHEARSAL
DESCRIPTION:
URL:https://www.ballet.ph/bp-event/company-rehearsal-7/
END:VEVENT
END:VCALENDAR