BEGIN:VCALENDAR
VERSION:2.0
PRODID:-//Ballet Philippines - ECPv6.15.17//NONSGML v1.0//EN
CALSCALE:GREGORIAN
METHOD:PUBLISH
X-ORIGINAL-URL:https://www.ballet.ph
X-WR-CALDESC:Events for Ballet Philippines
REFRESH-INTERVAL;VALUE=DURATION:PT1H
X-Robots-Tag:noindex
X-PUBLISHED-TTL:PT1H
BEGIN:VTIMEZONE
TZID:Asia/Manila
BEGIN:STANDARD
TZOFFSETFROM:+0800
TZOFFSETTO:+0800
TZNAME:PST
DTSTART:20210101T000000
END:STANDARD
END:VTIMEZONE
BEGIN:VEVENT
DTSTART;TZID=Asia/Manila:20220310T100000
DTEND;TZID=Asia/Manila:20220310T113000
DTSTAMP:20260420T090237
CREATED:20220301T064107Z
LAST-MODIFIED:20220301T064107Z
UID:6765-1646906400-1646911800@www.ballet.ph
SUMMARY:JOSEPH PHILLIPS OPEN CLASS
DESCRIPTION:
URL:https://www.ballet.ph/bp-event/joseph-phillips-open-class-7/
END:VEVENT
BEGIN:VEVENT
DTSTART;TZID=Asia/Manila:20220310T140000
DTEND;TZID=Asia/Manila:20220310T143000
DTSTAMP:20260420T090237
CREATED:20220301T064612Z
LAST-MODIFIED:20220301T064612Z
UID:6802-1646920800-1646922600@www.ballet.ph
SUMMARY:MISHA MARTYNYUK GYMNASTIC EXERCISE
DESCRIPTION:
URL:https://www.ballet.ph/bp-event/misha-martynyuk-gymnastic-exercise-8/
END:VEVENT
BEGIN:VEVENT
DTSTART;TZID=Asia/Manila:20220310T144500
DTEND;TZID=Asia/Manila:20220310T163000
DTSTAMP:20260420T090237
CREATED:20220301T064726Z
LAST-MODIFIED:20220301T064726Z
UID:6812-1646923500-1646929800@www.ballet.ph
SUMMARY:MISHA MARTYNYUK COMPANY CLASS
DESCRIPTION:
URL:https://www.ballet.ph/bp-event/misha-martynyuk-company-class-49/
END:VEVENT
BEGIN:VEVENT
DTSTART;TZID=Asia/Manila:20220310T164500
DTEND;TZID=Asia/Manila:20220310T200000
DTSTAMP:20260420T090237
CREATED:20220301T052946Z
LAST-MODIFIED:20220301T052946Z
UID:6730-1646930700-1646942400@www.ballet.ph
SUMMARY:COMPANY REHEARSAL
DESCRIPTION:
URL:https://www.ballet.ph/bp-event/company-rehearsal-8/
END:VEVENT
END:VCALENDAR