BEGIN:VCALENDAR
VERSION:2.0
PRODID:-//Ballet Philippines - ECPv6.15.17//NONSGML v1.0//EN
CALSCALE:GREGORIAN
METHOD:PUBLISH
X-ORIGINAL-URL:https://www.ballet.ph
X-WR-CALDESC:Events for Ballet Philippines
REFRESH-INTERVAL;VALUE=DURATION:PT1H
X-Robots-Tag:noindex
X-PUBLISHED-TTL:PT1H
BEGIN:VTIMEZONE
TZID:Asia/Manila
BEGIN:STANDARD
TZOFFSETFROM:+0800
TZOFFSETTO:+0800
TZNAME:PST
DTSTART:20210101T000000
END:STANDARD
END:VTIMEZONE
BEGIN:VEVENT
DTSTART;TZID=Asia/Manila:20220311T100000
DTEND;TZID=Asia/Manila:20220311T113000
DTSTAMP:20260420T090316
CREATED:20220301T064112Z
LAST-MODIFIED:20220301T064112Z
UID:6764-1646992800-1646998200@www.ballet.ph
SUMMARY:JOSEPH PHILLIPS OPEN CLASS
DESCRIPTION:
URL:https://www.ballet.ph/bp-event/joseph-phillips-open-class-8/
END:VEVENT
BEGIN:VEVENT
DTSTART;TZID=Asia/Manila:20220311T140000
DTEND;TZID=Asia/Manila:20220311T143000
DTSTAMP:20260420T090316
CREATED:20220301T064616Z
LAST-MODIFIED:20220301T064616Z
UID:6801-1647007200-1647009000@www.ballet.ph
SUMMARY:MISHA MARTYNYUK GYMNASTIC EXERCISE
DESCRIPTION:
URL:https://www.ballet.ph/bp-event/misha-martynyuk-gymnastic-exercise-9/
END:VEVENT
BEGIN:VEVENT
DTSTART;TZID=Asia/Manila:20220311T144500
DTEND;TZID=Asia/Manila:20220311T163000
DTSTAMP:20260420T090316
CREATED:20220301T064730Z
LAST-MODIFIED:20220301T064730Z
UID:6811-1647009900-1647016200@www.ballet.ph
SUMMARY:MISHA MARTYNYUK COMPANY CLASS
DESCRIPTION:
URL:https://www.ballet.ph/bp-event/misha-martynyuk-company-class-50/
END:VEVENT
BEGIN:VEVENT
DTSTART;TZID=Asia/Manila:20220311T164500
DTEND;TZID=Asia/Manila:20220311T200000
DTSTAMP:20260420T090316
CREATED:20220301T052950Z
LAST-MODIFIED:20220301T052950Z
UID:6729-1647017100-1647028800@www.ballet.ph
SUMMARY:COMPANY REHEARSAL
DESCRIPTION:
URL:https://www.ballet.ph/bp-event/company-rehearsal-9/
END:VEVENT
END:VCALENDAR