BEGIN:VCALENDAR
VERSION:2.0
PRODID:-//Ballet Philippines - ECPv6.15.17//NONSGML v1.0//EN
CALSCALE:GREGORIAN
METHOD:PUBLISH
X-ORIGINAL-URL:https://www.ballet.ph
X-WR-CALDESC:Events for Ballet Philippines
REFRESH-INTERVAL;VALUE=DURATION:PT1H
X-Robots-Tag:noindex
X-PUBLISHED-TTL:PT1H
BEGIN:VTIMEZONE
TZID:Asia/Manila
BEGIN:STANDARD
TZOFFSETFROM:+0800
TZOFFSETTO:+0800
TZNAME:PST
DTSTART:20210101T000000
END:STANDARD
END:VTIMEZONE
BEGIN:VEVENT
DTSTART;TZID=Asia/Manila:20220318T100000
DTEND;TZID=Asia/Manila:20220318T113000
DTSTAMP:20260420T055151
CREATED:20220301T064339Z
LAST-MODIFIED:20220301T064339Z
UID:6780-1647597600-1647603000@www.ballet.ph
SUMMARY:JOSEPH PHILLIPS OPEN CLASS
DESCRIPTION:
URL:https://www.ballet.ph/bp-event/joseph-phillips-open-class-13/
END:VEVENT
BEGIN:VEVENT
DTSTART;TZID=Asia/Manila:20220318T140000
DTEND;TZID=Asia/Manila:20220318T143000
DTSTAMP:20260420T055151
CREATED:20220301T064930Z
LAST-MODIFIED:20220301T064930Z
UID:6823-1647612000-1647613800@www.ballet.ph
SUMMARY:MISHA MARTYNYUK GYMNASTIC EXERCISE
DESCRIPTION:
URL:https://www.ballet.ph/bp-event/misha-martynyuk-gymnastic-exercise-14/
END:VEVENT
BEGIN:VEVENT
DTSTART;TZID=Asia/Manila:20220318T144500
DTEND;TZID=Asia/Manila:20220318T163000
DTSTAMP:20260420T055151
CREATED:20220301T065305Z
LAST-MODIFIED:20220301T065305Z
UID:6847-1647614700-1647621000@www.ballet.ph
SUMMARY:MISHA MARTYNYUK COMPANY CLASS
DESCRIPTION:
URL:https://www.ballet.ph/bp-event/misha-martynyuk-company-class-55/
END:VEVENT
BEGIN:VEVENT
DTSTART;TZID=Asia/Manila:20220318T164500
DTEND;TZID=Asia/Manila:20220318T200000
DTSTAMP:20260420T055151
CREATED:20220301T053116Z
LAST-MODIFIED:20220301T053116Z
UID:6739-1647621900-1647633600@www.ballet.ph
SUMMARY:COMPANY REHEARSAL
DESCRIPTION:
URL:https://www.ballet.ph/bp-event/company-rehearsal-14/
END:VEVENT
END:VCALENDAR