BEGIN:VCALENDAR
VERSION:2.0
PRODID:-//Ballet Philippines - ECPv6.15.17//NONSGML v1.0//EN
CALSCALE:GREGORIAN
METHOD:PUBLISH
X-ORIGINAL-URL:https://www.ballet.ph
X-WR-CALDESC:Events for Ballet Philippines
REFRESH-INTERVAL;VALUE=DURATION:PT1H
X-Robots-Tag:noindex
X-PUBLISHED-TTL:PT1H
BEGIN:VTIMEZONE
TZID:Asia/Manila
BEGIN:STANDARD
TZOFFSETFROM:+0800
TZOFFSETTO:+0800
TZNAME:PST
DTSTART:20210101T000000
END:STANDARD
END:VTIMEZONE
BEGIN:VEVENT
DTSTART;TZID=Asia/Manila:20220319T100000
DTEND;TZID=Asia/Manila:20220319T113000
DTSTAMP:20260420T090414
CREATED:20220301T064342Z
LAST-MODIFIED:20220301T064342Z
UID:6779-1647684000-1647689400@www.ballet.ph
SUMMARY:JOSEPH PHILLIPS OPEN CLASS
DESCRIPTION:
URL:https://www.ballet.ph/bp-event/joseph-phillips-open-class-14/
END:VEVENT
BEGIN:VEVENT
DTSTART;TZID=Asia/Manila:20220319T140000
DTEND;TZID=Asia/Manila:20220319T143000
DTSTAMP:20260420T090414
CREATED:20220301T064939Z
LAST-MODIFIED:20220301T064939Z
UID:6824-1647698400-1647700200@www.ballet.ph
SUMMARY:MISHA MARTYNYUK GYMNASTIC EXERCISE
DESCRIPTION:
URL:https://www.ballet.ph/bp-event/misha-martynyuk-gymnastic-exercise-15/
END:VEVENT
BEGIN:VEVENT
DTSTART;TZID=Asia/Manila:20220319T144500
DTEND;TZID=Asia/Manila:20220319T163000
DTSTAMP:20260420T090414
CREATED:20220301T065319Z
LAST-MODIFIED:20220301T065319Z
UID:6846-1647701100-1647707400@www.ballet.ph
SUMMARY:MISHA MARTYNYUK COMPANY CLASS
DESCRIPTION:
URL:https://www.ballet.ph/bp-event/misha-martynyuk-company-class-56/
END:VEVENT
BEGIN:VEVENT
DTSTART;TZID=Asia/Manila:20220319T164500
DTEND;TZID=Asia/Manila:20220319T200000
DTSTAMP:20260420T090414
CREATED:20220301T053119Z
LAST-MODIFIED:20220301T053119Z
UID:6738-1647708300-1647720000@www.ballet.ph
SUMMARY:COMPANY REHEARSAL
DESCRIPTION:
URL:https://www.ballet.ph/bp-event/company-rehearsal-15/
END:VEVENT
END:VCALENDAR