BEGIN:VCALENDAR
VERSION:2.0
PRODID:-//Ballet Philippines - ECPv6.15.17//NONSGML v1.0//EN
CALSCALE:GREGORIAN
METHOD:PUBLISH
X-ORIGINAL-URL:https://www.ballet.ph
X-WR-CALDESC:Events for Ballet Philippines
REFRESH-INTERVAL;VALUE=DURATION:PT1H
X-Robots-Tag:noindex
X-PUBLISHED-TTL:PT1H
BEGIN:VTIMEZONE
TZID:Asia/Manila
BEGIN:STANDARD
TZOFFSETFROM:+0800
TZOFFSETTO:+0800
TZNAME:PST
DTSTART:20210101T000000
END:STANDARD
END:VTIMEZONE
BEGIN:VEVENT
DTSTART;TZID=Asia/Manila:20220326T100000
DTEND;TZID=Asia/Manila:20220326T113000
DTSTAMP:20260420T090314
CREATED:20220301T064401Z
LAST-MODIFIED:20220301T064401Z
UID:6774-1648288800-1648294200@www.ballet.ph
SUMMARY:JOSEPH PHILLIPS OPEN CLASS
DESCRIPTION:
URL:https://www.ballet.ph/bp-event/joseph-phillips-open-class-19/
END:VEVENT
BEGIN:VEVENT
DTSTART;TZID=Asia/Manila:20220326T140000
DTEND;TZID=Asia/Manila:20220326T143000
DTSTAMP:20260420T090314
CREATED:20220301T065127Z
LAST-MODIFIED:20220301T065127Z
UID:6833-1648303200-1648305000@www.ballet.ph
SUMMARY:MISHA MARTYNYUK GYMNASTIC EXERCISE
DESCRIPTION:
URL:https://www.ballet.ph/bp-event/misha-martynyuk-gymnastic-exercise-20/
END:VEVENT
BEGIN:VEVENT
DTSTART;TZID=Asia/Manila:20220326T144500
DTEND;TZID=Asia/Manila:20220326T163000
DTSTAMP:20260420T090314
CREATED:20220301T065448Z
LAST-MODIFIED:20220301T065448Z
UID:6859-1648305900-1648312200@www.ballet.ph
SUMMARY:MISHA MARTYNYUK COMPANY CLASS
DESCRIPTION:
URL:https://www.ballet.ph/bp-event/misha-martynyuk-company-class-61/
END:VEVENT
BEGIN:VEVENT
DTSTART;TZID=Asia/Manila:20220326T164500
DTEND;TZID=Asia/Manila:20220326T200000
DTSTAMP:20260420T090314
CREATED:20220301T053235Z
LAST-MODIFIED:20220301T053235Z
UID:6748-1648313100-1648324800@www.ballet.ph
SUMMARY:COMPANY REHEARSAL
DESCRIPTION:
URL:https://www.ballet.ph/bp-event/company-rehearsal-20/
END:VEVENT
END:VCALENDAR