BEGIN:VCALENDAR
VERSION:2.0
PRODID:-//Ballet Philippines - ECPv6.15.17//NONSGML v1.0//EN
CALSCALE:GREGORIAN
METHOD:PUBLISH
X-ORIGINAL-URL:https://www.ballet.ph
X-WR-CALDESC:Events for Ballet Philippines
REFRESH-INTERVAL;VALUE=DURATION:PT1H
X-Robots-Tag:noindex
X-PUBLISHED-TTL:PT1H
BEGIN:VTIMEZONE
TZID:Asia/Manila
BEGIN:STANDARD
TZOFFSETFROM:+0800
TZOFFSETTO:+0800
TZNAME:PST
DTSTART:20210101T000000
END:STANDARD
END:VTIMEZONE
BEGIN:VEVENT
DTSTART;TZID=Asia/Manila:20220405T100000
DTEND;TZID=Asia/Manila:20220405T113000
DTSTAMP:20260420T041945
CREATED:20220401T060732Z
LAST-MODIFIED:20220401T060732Z
UID:7008-1649152800-1649158200@www.ballet.ph
SUMMARY:JOSEPH PHILLIPS OPEN CLASS
DESCRIPTION:
URL:https://www.ballet.ph/bp-event/joseph-phillips-open-class-25/
END:VEVENT
BEGIN:VEVENT
DTSTART;TZID=Asia/Manila:20220405T140000
DTEND;TZID=Asia/Manila:20220405T143000
DTSTAMP:20260420T041945
CREATED:20220401T060840Z
LAST-MODIFIED:20220401T060840Z
UID:7015-1649167200-1649169000@www.ballet.ph
SUMMARY:MISHA MARTYNYUK GYMNASTIC EXERCISE
DESCRIPTION:
URL:https://www.ballet.ph/bp-event/misha-martynyuk-gymnastic-exercise-26/
END:VEVENT
BEGIN:VEVENT
DTSTART;TZID=Asia/Manila:20220405T144500
DTEND;TZID=Asia/Manila:20220405T163000
DTSTAMP:20260420T041945
CREATED:20220401T061005Z
LAST-MODIFIED:20220401T061005Z
UID:7023-1649169900-1649176200@www.ballet.ph
SUMMARY:MISHA MARTYNYUK COMPANY CLASS
DESCRIPTION:
URL:https://www.ballet.ph/bp-event/misha-martynyuk-company-class-66/
END:VEVENT
BEGIN:VEVENT
DTSTART;TZID=Asia/Manila:20220405T164500
DTEND;TZID=Asia/Manila:20220405T200000
DTSTAMP:20260420T041945
CREATED:20220401T061136Z
LAST-MODIFIED:20220401T061136Z
UID:7031-1649177100-1649188800@www.ballet.ph
SUMMARY:COMPANY REHEARSAL
DESCRIPTION:
URL:https://www.ballet.ph/bp-event/company-rehearsal-26/
END:VEVENT
END:VCALENDAR