BEGIN:VCALENDAR
VERSION:2.0
PRODID:-//Ballet Philippines - ECPv6.15.17//NONSGML v1.0//EN
CALSCALE:GREGORIAN
METHOD:PUBLISH
X-WR-CALNAME:Ballet Philippines
X-ORIGINAL-URL:https://www.ballet.ph
X-WR-CALDESC:Events for Ballet Philippines
REFRESH-INTERVAL;VALUE=DURATION:PT1H
X-Robots-Tag:noindex
X-PUBLISHED-TTL:PT1H
BEGIN:VTIMEZONE
TZID:Asia/Manila
BEGIN:STANDARD
TZOFFSETFROM:+0800
TZOFFSETTO:+0800
TZNAME:PST
DTSTART:20210101T000000
END:STANDARD
END:VTIMEZONE
BEGIN:VEVENT
DTSTART;TZID=Asia/Manila:20220406T100000
DTEND;TZID=Asia/Manila:20220406T113000
DTSTAMP:20260420T035757
CREATED:20220401T060741Z
LAST-MODIFIED:20220401T060741Z
UID:7009-1649239200-1649244600@www.ballet.ph
SUMMARY:JOSEPH PHILLIPS OPEN CLASS
DESCRIPTION:
URL:https://www.ballet.ph/bp-event/joseph-phillips-open-class-26/
END:VEVENT
BEGIN:VEVENT
DTSTART;TZID=Asia/Manila:20220406T140000
DTEND;TZID=Asia/Manila:20220406T143000
DTSTAMP:20260420T035757
CREATED:20220401T060851Z
LAST-MODIFIED:20220401T060851Z
UID:7016-1649253600-1649255400@www.ballet.ph
SUMMARY:MISHA MARTYNYUK GYMNASTIC EXERCISE
DESCRIPTION:
URL:https://www.ballet.ph/bp-event/misha-martynyuk-gymnastic-exercise-27/
END:VEVENT
BEGIN:VEVENT
DTSTART;TZID=Asia/Manila:20220406T144500
DTEND;TZID=Asia/Manila:20220406T163000
DTSTAMP:20260420T035757
CREATED:20220401T061015Z
LAST-MODIFIED:20220401T061015Z
UID:7024-1649256300-1649262600@www.ballet.ph
SUMMARY:MISHA MARTYNYUK COMPANY CLASS
DESCRIPTION:
URL:https://www.ballet.ph/bp-event/misha-martynyuk-company-class-67/
END:VEVENT
BEGIN:VEVENT
DTSTART;TZID=Asia/Manila:20220406T164500
DTEND;TZID=Asia/Manila:20220406T200000
DTSTAMP:20260420T035757
CREATED:20220401T061150Z
LAST-MODIFIED:20220401T061150Z
UID:7032-1649263500-1649275200@www.ballet.ph
SUMMARY:COMPANY REHEARSAL
DESCRIPTION:
URL:https://www.ballet.ph/bp-event/company-rehearsal-27/
END:VEVENT
END:VCALENDAR