BEGIN:VCALENDAR
VERSION:2.0
PRODID:-//Ballet Philippines - ECPv6.15.17//NONSGML v1.0//EN
CALSCALE:GREGORIAN
METHOD:PUBLISH
X-ORIGINAL-URL:https://www.ballet.ph
X-WR-CALDESC:Events for Ballet Philippines
REFRESH-INTERVAL;VALUE=DURATION:PT1H
X-Robots-Tag:noindex
X-PUBLISHED-TTL:PT1H
BEGIN:VTIMEZONE
TZID:Asia/Manila
BEGIN:STANDARD
TZOFFSETFROM:+0800
TZOFFSETTO:+0800
TZNAME:PST
DTSTART:20210101T000000
END:STANDARD
END:VTIMEZONE
BEGIN:VEVENT
DTSTART;TZID=Asia/Manila:20220420T100000
DTEND;TZID=Asia/Manila:20220420T113000
DTSTAMP:20260420T053036
CREATED:20220401T061351Z
LAST-MODIFIED:20220401T061351Z
UID:7043-1650448800-1650454200@www.ballet.ph
SUMMARY:JOSEPH PHILLIPS OPEN CLASS
DESCRIPTION:
URL:https://www.ballet.ph/bp-event/joseph-phillips-open-class-32/
END:VEVENT
BEGIN:VEVENT
DTSTART;TZID=Asia/Manila:20220420T140000
DTEND;TZID=Asia/Manila:20220420T143000
DTSTAMP:20260420T053036
CREATED:20220401T062045Z
LAST-MODIFIED:20220401T062045Z
UID:7082-1650463200-1650465000@www.ballet.ph
SUMMARY:MISHA MARTYNYUK GYMNASTIC EXERCISE
DESCRIPTION:
URL:https://www.ballet.ph/bp-event/misha-martynyuk-gymnastic-exercise-33/
END:VEVENT
BEGIN:VEVENT
DTSTART;TZID=Asia/Manila:20220420T144500
DTEND;TZID=Asia/Manila:20220420T163000
DTSTAMP:20260420T053036
CREATED:20220401T062159Z
LAST-MODIFIED:20220401T062159Z
UID:7089-1650465900-1650472200@www.ballet.ph
SUMMARY:MISHA MARTYNYUK COMPANY CLASS
DESCRIPTION:
URL:https://www.ballet.ph/bp-event/misha-martynyuk-company-class-73/
END:VEVENT
BEGIN:VEVENT
DTSTART;TZID=Asia/Manila:20220420T164500
DTEND;TZID=Asia/Manila:20220420T200000
DTSTAMP:20260420T053036
CREATED:20220401T062646Z
LAST-MODIFIED:20220401T062646Z
UID:7100-1650473100-1650484800@www.ballet.ph
SUMMARY:COMPANY REHEARSAL
DESCRIPTION:
URL:https://www.ballet.ph/bp-event/company-rehearsal-33/
END:VEVENT
END:VCALENDAR