BEGIN:VCALENDAR
VERSION:2.0
PRODID:-//Ballet Philippines - ECPv6.15.17//NONSGML v1.0//EN
CALSCALE:GREGORIAN
METHOD:PUBLISH
X-ORIGINAL-URL:https://www.ballet.ph
X-WR-CALDESC:Events for Ballet Philippines
REFRESH-INTERVAL;VALUE=DURATION:PT1H
X-Robots-Tag:noindex
X-PUBLISHED-TTL:PT1H
BEGIN:VTIMEZONE
TZID:Asia/Manila
BEGIN:STANDARD
TZOFFSETFROM:+0800
TZOFFSETTO:+0800
TZNAME:PST
DTSTART:20210101T000000
END:STANDARD
END:VTIMEZONE
BEGIN:VEVENT
DTSTART;TZID=Asia/Manila:20220422T100000
DTEND;TZID=Asia/Manila:20220422T113000
DTSTAMP:20260420T041920
CREATED:20220401T061440Z
LAST-MODIFIED:20220401T061440Z
UID:7049-1650621600-1650627000@www.ballet.ph
SUMMARY:JOSEPH PHILLIPS OPEN CLASS
DESCRIPTION:
URL:https://www.ballet.ph/bp-event/joseph-phillips-open-class-34/
END:VEVENT
BEGIN:VEVENT
DTSTART;TZID=Asia/Manila:20220422T140000
DTEND;TZID=Asia/Manila:20220422T143000
DTSTAMP:20260420T041920
CREATED:20220401T062101Z
LAST-MODIFIED:20220401T062101Z
UID:7079-1650636000-1650637800@www.ballet.ph
SUMMARY:MISHA MARTYNYUK GYMNASTIC EXERCISE
DESCRIPTION:
URL:https://www.ballet.ph/bp-event/misha-martynyuk-gymnastic-exercise-35/
END:VEVENT
BEGIN:VEVENT
DTSTART;TZID=Asia/Manila:20220422T144500
DTEND;TZID=Asia/Manila:20220422T163000
DTSTAMP:20260420T041920
CREATED:20220401T062238Z
LAST-MODIFIED:20220401T062238Z
UID:7091-1650638700-1650645000@www.ballet.ph
SUMMARY:MISHA MARTYNYUK COMPANY CLASS
DESCRIPTION:
URL:https://www.ballet.ph/bp-event/misha-martynyuk-company-class-75/
END:VEVENT
BEGIN:VEVENT
DTSTART;TZID=Asia/Manila:20220422T164500
DTEND;TZID=Asia/Manila:20220422T200000
DTSTAMP:20260420T041920
CREATED:20220401T062703Z
LAST-MODIFIED:20220401T062703Z
UID:7102-1650645900-1650657600@www.ballet.ph
SUMMARY:COMPANY REHEARSAL
DESCRIPTION:
URL:https://www.ballet.ph/bp-event/company-rehearsal-35/
END:VEVENT
END:VCALENDAR