BEGIN:VCALENDAR
VERSION:2.0
PRODID:-//Ballet Philippines - ECPv6.15.17//NONSGML v1.0//EN
CALSCALE:GREGORIAN
METHOD:PUBLISH
X-WR-CALNAME:Ballet Philippines
X-ORIGINAL-URL:https://www.ballet.ph
X-WR-CALDESC:Events for Ballet Philippines
REFRESH-INTERVAL;VALUE=DURATION:PT1H
X-Robots-Tag:noindex
X-PUBLISHED-TTL:PT1H
BEGIN:VTIMEZONE
TZID:Asia/Manila
BEGIN:STANDARD
TZOFFSETFROM:+0800
TZOFFSETTO:+0800
TZNAME:PST
DTSTART:20210101T000000
END:STANDARD
END:VTIMEZONE
BEGIN:VEVENT
DTSTART;TZID=Asia/Manila:20220423T100000
DTEND;TZID=Asia/Manila:20220423T113000
DTSTAMP:20260420T041755
CREATED:20220401T061449Z
LAST-MODIFIED:20220401T061449Z
UID:7050-1650708000-1650713400@www.ballet.ph
SUMMARY:JOSEPH PHILLIPS OPEN CLASS
DESCRIPTION:
URL:https://www.ballet.ph/bp-event/joseph-phillips-open-class-35/
END:VEVENT
BEGIN:VEVENT
DTSTART;TZID=Asia/Manila:20220423T140000
DTEND;TZID=Asia/Manila:20220423T143000
DTSTAMP:20260420T041755
CREATED:20220401T062109Z
LAST-MODIFIED:20220401T062109Z
UID:7080-1650722400-1650724200@www.ballet.ph
SUMMARY:MISHA MARTYNYUK GYMNASTIC EXERCISE
DESCRIPTION:
URL:https://www.ballet.ph/bp-event/misha-martynyuk-gymnastic-exercise-36/
END:VEVENT
BEGIN:VEVENT
DTSTART;TZID=Asia/Manila:20220423T144500
DTEND;TZID=Asia/Manila:20220423T163000
DTSTAMP:20260420T041755
CREATED:20220401T062250Z
LAST-MODIFIED:20220401T062250Z
UID:7092-1650725100-1650731400@www.ballet.ph
SUMMARY:MISHA MARTYNYUK COMPANY CLASS
DESCRIPTION:
URL:https://www.ballet.ph/bp-event/misha-martynyuk-company-class-76/
END:VEVENT
BEGIN:VEVENT
DTSTART;TZID=Asia/Manila:20220423T164500
DTEND;TZID=Asia/Manila:20220423T200000
DTSTAMP:20260420T041755
CREATED:20220401T062712Z
LAST-MODIFIED:20220401T062712Z
UID:7103-1650732300-1650744000@www.ballet.ph
SUMMARY:COMPANY REHEARSAL
DESCRIPTION:
URL:https://www.ballet.ph/bp-event/company-rehearsal-36/
END:VEVENT
END:VCALENDAR