BEGIN:VCALENDAR
VERSION:2.0
PRODID:-//Ballet Philippines - ECPv6.15.17//NONSGML v1.0//EN
CALSCALE:GREGORIAN
METHOD:PUBLISH
X-ORIGINAL-URL:https://www.ballet.ph
X-WR-CALDESC:Events for Ballet Philippines
REFRESH-INTERVAL;VALUE=DURATION:PT1H
X-Robots-Tag:noindex
X-PUBLISHED-TTL:PT1H
BEGIN:VTIMEZONE
TZID:Asia/Manila
BEGIN:STANDARD
TZOFFSETFROM:+0800
TZOFFSETTO:+0800
TZNAME:PST
DTSTART:20210101T000000
END:STANDARD
END:VTIMEZONE
BEGIN:VEVENT
DTSTART;TZID=Asia/Manila:20220426T100000
DTEND;TZID=Asia/Manila:20220426T113000
DTSTAMP:20260420T023158
CREATED:20220401T061822Z
LAST-MODIFIED:20220401T061822Z
UID:7068-1650967200-1650972600@www.ballet.ph
SUMMARY:JOSEPH PHILLIPS OPEN CLASS
DESCRIPTION:
URL:https://www.ballet.ph/bp-event/joseph-phillips-open-class-36/
END:VEVENT
BEGIN:VEVENT
DTSTART;TZID=Asia/Manila:20220426T140000
DTEND;TZID=Asia/Manila:20220426T143000
DTSTAMP:20260420T023158
CREATED:20220401T080153Z
LAST-MODIFIED:20220401T080153Z
UID:7119-1650981600-1650983400@www.ballet.ph
SUMMARY:MISHA MARTYNYUK GYMNASTIC EXERCISE
DESCRIPTION:
URL:https://www.ballet.ph/bp-event/misha-martynyuk-gymnastic-exercise-37/
END:VEVENT
BEGIN:VEVENT
DTSTART;TZID=Asia/Manila:20220426T144500
DTEND;TZID=Asia/Manila:20220426T163000
DTSTAMP:20260420T023158
CREATED:20220401T080657Z
LAST-MODIFIED:20220401T080657Z
UID:7129-1650984300-1650990600@www.ballet.ph
SUMMARY:MISHA MARTYNYUK COMPANY CLASS
DESCRIPTION:
URL:https://www.ballet.ph/bp-event/misha-martynyuk-company-class-77/
END:VEVENT
BEGIN:VEVENT
DTSTART;TZID=Asia/Manila:20220426T164500
DTEND;TZID=Asia/Manila:20220426T200000
DTSTAMP:20260420T023158
CREATED:20220401T062756Z
LAST-MODIFIED:20220401T062756Z
UID:7109-1650991500-1651003200@www.ballet.ph
SUMMARY:COMPANY REHEARSAL
DESCRIPTION:
URL:https://www.ballet.ph/bp-event/company-rehearsal-37/
END:VEVENT
END:VCALENDAR