BEGIN:VCALENDAR
VERSION:2.0
PRODID:-//Ballet Philippines - ECPv6.15.17//NONSGML v1.0//EN
CALSCALE:GREGORIAN
METHOD:PUBLISH
X-ORIGINAL-URL:https://www.ballet.ph
X-WR-CALDESC:Events for Ballet Philippines
REFRESH-INTERVAL;VALUE=DURATION:PT1H
X-Robots-Tag:noindex
X-PUBLISHED-TTL:PT1H
BEGIN:VTIMEZONE
TZID:Asia/Manila
BEGIN:STANDARD
TZOFFSETFROM:+0800
TZOFFSETTO:+0800
TZNAME:PST
DTSTART:20210101T000000
END:STANDARD
END:VTIMEZONE
BEGIN:VEVENT
DTSTART;TZID=Asia/Manila:20220427T100000
DTEND;TZID=Asia/Manila:20220427T113000
DTSTAMP:20260420T023112
CREATED:20220401T061832Z
LAST-MODIFIED:20220401T061832Z
UID:7070-1651053600-1651059000@www.ballet.ph
SUMMARY:JOSEPH PHILLIPS OPEN CLASS
DESCRIPTION:
URL:https://www.ballet.ph/bp-event/joseph-phillips-open-class-37/
END:VEVENT
BEGIN:VEVENT
DTSTART;TZID=Asia/Manila:20220427T140000
DTEND;TZID=Asia/Manila:20220427T143000
DTSTAMP:20260420T023112
CREATED:20220401T080204Z
LAST-MODIFIED:20220401T080204Z
UID:7120-1651068000-1651069800@www.ballet.ph
SUMMARY:MISHA MARTYNYUK GYMNASTIC EXERCISE
DESCRIPTION:
URL:https://www.ballet.ph/bp-event/misha-martynyuk-gymnastic-exercise-38/
END:VEVENT
BEGIN:VEVENT
DTSTART;TZID=Asia/Manila:20220427T144500
DTEND;TZID=Asia/Manila:20220427T163000
DTSTAMP:20260420T023112
CREATED:20220401T080706Z
LAST-MODIFIED:20220401T080706Z
UID:7130-1651070700-1651077000@www.ballet.ph
SUMMARY:MISHA MARTYNYUK COMPANY CLASS
DESCRIPTION:
URL:https://www.ballet.ph/bp-event/misha-martynyuk-company-class-78/
END:VEVENT
BEGIN:VEVENT
DTSTART;TZID=Asia/Manila:20220427T164500
DTEND;TZID=Asia/Manila:20220427T200000
DTSTAMP:20260420T023112
CREATED:20220401T062805Z
LAST-MODIFIED:20220401T062805Z
UID:7110-1651077900-1651089600@www.ballet.ph
SUMMARY:COMPANY REHEARSAL
DESCRIPTION:
URL:https://www.ballet.ph/bp-event/company-rehearsal-38/
END:VEVENT
END:VCALENDAR