BEGIN:VCALENDAR
VERSION:2.0
PRODID:-//Ballet Philippines - ECPv6.15.17//NONSGML v1.0//EN
CALSCALE:GREGORIAN
METHOD:PUBLISH
X-ORIGINAL-URL:https://www.ballet.ph
X-WR-CALDESC:Events for Ballet Philippines
REFRESH-INTERVAL;VALUE=DURATION:PT1H
X-Robots-Tag:noindex
X-PUBLISHED-TTL:PT1H
BEGIN:VTIMEZONE
TZID:Asia/Manila
BEGIN:STANDARD
TZOFFSETFROM:+0800
TZOFFSETTO:+0800
TZNAME:PST
DTSTART:20210101T000000
END:STANDARD
END:VTIMEZONE
BEGIN:VEVENT
DTSTART;TZID=Asia/Manila:20220504T100000
DTEND;TZID=Asia/Manila:20220504T113000
DTSTAMP:20260420T023004
CREATED:20220430T133644Z
LAST-MODIFIED:20220430T133644Z
UID:7226-1651658400-1651663800@www.ballet.ph
SUMMARY:JOSEPH PHILLIPS OPEN CLASS
DESCRIPTION:
URL:https://www.ballet.ph/bp-event/joseph-phillips-open-class-41/
END:VEVENT
BEGIN:VEVENT
DTSTART;TZID=Asia/Manila:20220504T140000
DTEND;TZID=Asia/Manila:20220504T143000
DTSTAMP:20260420T023004
CREATED:20220430T133913Z
LAST-MODIFIED:20220430T133913Z
UID:7241-1651672800-1651674600@www.ballet.ph
SUMMARY:MISHA MARTYNYUK GYMNASTIC EXERCISE
DESCRIPTION:
URL:https://www.ballet.ph/bp-event/misha-martynyuk-gymnastic-exercise-42/
END:VEVENT
BEGIN:VEVENT
DTSTART;TZID=Asia/Manila:20220504T144500
DTEND;TZID=Asia/Manila:20220504T163000
DTSTAMP:20260420T023004
CREATED:20220430T134021Z
LAST-MODIFIED:20220430T134021Z
UID:7249-1651675500-1651681800@www.ballet.ph
SUMMARY:MISHA MARTYNYUK COMPANY CLASS
DESCRIPTION:
URL:https://www.ballet.ph/bp-event/misha-martynyuk-company-class-82/
END:VEVENT
BEGIN:VEVENT
DTSTART;TZID=Asia/Manila:20220504T164500
DTEND;TZID=Asia/Manila:20220504T200000
DTSTAMP:20260420T023004
CREATED:20220430T134125Z
LAST-MODIFIED:20220430T134125Z
UID:7257-1651682700-1651694400@www.ballet.ph
SUMMARY:COMPANY REHEARSAL
DESCRIPTION:
URL:https://www.ballet.ph/bp-event/company-rehearsal-42/
END:VEVENT
END:VCALENDAR