BEGIN:VCALENDAR
VERSION:2.0
PRODID:-//Ballet Philippines - ECPv6.15.17//NONSGML v1.0//EN
CALSCALE:GREGORIAN
METHOD:PUBLISH
X-WR-CALNAME:Ballet Philippines
X-ORIGINAL-URL:https://www.ballet.ph
X-WR-CALDESC:Events for Ballet Philippines
REFRESH-INTERVAL;VALUE=DURATION:PT1H
X-Robots-Tag:noindex
X-PUBLISHED-TTL:PT1H
BEGIN:VTIMEZONE
TZID:Asia/Manila
BEGIN:STANDARD
TZOFFSETFROM:+0800
TZOFFSETTO:+0800
TZNAME:PST
DTSTART:20210101T000000
END:STANDARD
END:VTIMEZONE
BEGIN:VEVENT
DTSTART;TZID=Asia/Manila:20220506T100000
DTEND;TZID=Asia/Manila:20220506T113000
DTSTAMP:20260420T022641
CREATED:20220430T133702Z
LAST-MODIFIED:20220430T133702Z
UID:7223-1651831200-1651836600@www.ballet.ph
SUMMARY:JOSEPH PHILLIPS OPEN CLASS
DESCRIPTION:
URL:https://www.ballet.ph/bp-event/joseph-phillips-open-class-43/
END:VEVENT
BEGIN:VEVENT
DTSTART;TZID=Asia/Manila:20220506T140000
DTEND;TZID=Asia/Manila:20220506T143000
DTSTAMP:20260420T022641
CREATED:20220430T133934Z
LAST-MODIFIED:20220430T133934Z
UID:7243-1651845600-1651847400@www.ballet.ph
SUMMARY:MISHA MARTYNYUK GYMNASTIC EXERCISE
DESCRIPTION:
URL:https://www.ballet.ph/bp-event/misha-martynyuk-gymnastic-exercise-44/
END:VEVENT
BEGIN:VEVENT
DTSTART;TZID=Asia/Manila:20220506T144500
DTEND;TZID=Asia/Manila:20220506T163000
DTSTAMP:20260420T022641
CREATED:20220430T134041Z
LAST-MODIFIED:20220430T134041Z
UID:7251-1651848300-1651854600@www.ballet.ph
SUMMARY:MISHA MARTYNYUK COMPANY CLASS
DESCRIPTION:
URL:https://www.ballet.ph/bp-event/misha-martynyuk-company-class-84/
END:VEVENT
BEGIN:VEVENT
DTSTART;TZID=Asia/Manila:20220506T164500
DTEND;TZID=Asia/Manila:20220506T200000
DTSTAMP:20260420T022641
CREATED:20220430T134146Z
LAST-MODIFIED:20220430T134146Z
UID:7260-1651855500-1651867200@www.ballet.ph
SUMMARY:COMPANY REHEARSAL
DESCRIPTION:
URL:https://www.ballet.ph/bp-event/company-rehearsal-44/
END:VEVENT
END:VCALENDAR