BEGIN:VCALENDAR
VERSION:2.0
PRODID:-//Ballet Philippines - ECPv6.15.17//NONSGML v1.0//EN
CALSCALE:GREGORIAN
METHOD:PUBLISH
X-ORIGINAL-URL:https://www.ballet.ph
X-WR-CALDESC:Events for Ballet Philippines
REFRESH-INTERVAL;VALUE=DURATION:PT1H
X-Robots-Tag:noindex
X-PUBLISHED-TTL:PT1H
BEGIN:VTIMEZONE
TZID:Asia/Manila
BEGIN:STANDARD
TZOFFSETFROM:+0800
TZOFFSETTO:+0800
TZNAME:PST
DTSTART:20210101T000000
END:STANDARD
END:VTIMEZONE
BEGIN:VEVENT
DTSTART;TZID=Asia/Manila:20220513T100000
DTEND;TZID=Asia/Manila:20220513T113000
DTSTAMP:20260420T023026
CREATED:20220430T133826Z
LAST-MODIFIED:20220430T133826Z
UID:7235-1652436000-1652441400@www.ballet.ph
SUMMARY:JOSEPH PHILLIPS OPEN CLASS
DESCRIPTION:
URL:https://www.ballet.ph/bp-event/joseph-phillips-open-class-48/
END:VEVENT
BEGIN:VEVENT
DTSTART;TZID=Asia/Manila:20220513T140000
DTEND;TZID=Asia/Manila:20220513T143000
DTSTAMP:20260420T023026
CREATED:20220430T134448Z
LAST-MODIFIED:20220430T134448Z
UID:7277-1652450400-1652452200@www.ballet.ph
SUMMARY:MISHA MARTYNYUK GYMNASTIC EXERCISE
DESCRIPTION:
URL:https://www.ballet.ph/bp-event/misha-martynyuk-gymnastic-exercise-49/
END:VEVENT
BEGIN:VEVENT
DTSTART;TZID=Asia/Manila:20220513T144500
DTEND;TZID=Asia/Manila:20220513T163000
DTSTAMP:20260420T023026
CREATED:20220430T134608Z
LAST-MODIFIED:20220430T134608Z
UID:7288-1652453100-1652459400@www.ballet.ph
SUMMARY:MISHA MARTYNYUK COMPANY CLASS
DESCRIPTION:
URL:https://www.ballet.ph/bp-event/misha-martynyuk-company-class-89/
END:VEVENT
BEGIN:VEVENT
DTSTART;TZID=Asia/Manila:20220513T164500
DTEND;TZID=Asia/Manila:20220513T200000
DTSTAMP:20260420T023026
CREATED:20220430T134313Z
LAST-MODIFIED:20220430T134313Z
UID:7268-1652460300-1652472000@www.ballet.ph
SUMMARY:COMPANY REHEARSAL
DESCRIPTION:
URL:https://www.ballet.ph/bp-event/company-rehearsal-49/
END:VEVENT
END:VCALENDAR