BEGIN:VCALENDAR
VERSION:2.0
PRODID:-//Ballet Philippines - ECPv6.15.17//NONSGML v1.0//EN
CALSCALE:GREGORIAN
METHOD:PUBLISH
X-ORIGINAL-URL:https://www.ballet.ph
X-WR-CALDESC:Events for Ballet Philippines
REFRESH-INTERVAL;VALUE=DURATION:PT1H
X-Robots-Tag:noindex
X-PUBLISHED-TTL:PT1H
BEGIN:VTIMEZONE
TZID:Asia/Manila
BEGIN:STANDARD
TZOFFSETFROM:+0800
TZOFFSETTO:+0800
TZNAME:PST
DTSTART:20210101T000000
END:STANDARD
END:VTIMEZONE
BEGIN:VEVENT
DTSTART;TZID=Asia/Manila:20220517T100000
DTEND;TZID=Asia/Manila:20220517T113000
DTSTAMP:20260420T023009
CREATED:20220430T134749Z
LAST-MODIFIED:20220430T134749Z
UID:7295-1652781600-1652787000@www.ballet.ph
SUMMARY:JOSEPH PHILLIPS OPEN CLASS
DESCRIPTION:
URL:https://www.ballet.ph/bp-event/joseph-phillips-open-class-50/
END:VEVENT
BEGIN:VEVENT
DTSTART;TZID=Asia/Manila:20220517T140000
DTEND;TZID=Asia/Manila:20220517T143000
DTSTAMP:20260420T023009
CREATED:20220430T135246Z
LAST-MODIFIED:20220430T135417Z
UID:7316-1652796000-1652797800@www.ballet.ph
SUMMARY:MISHA MARTYNYUK GYMNASTIC EXERCISE
DESCRIPTION:
URL:https://www.ballet.ph/bp-event/misha-martynyuk-gymnastic-exercise-51/
END:VEVENT
BEGIN:VEVENT
DTSTART;TZID=Asia/Manila:20220517T144500
DTEND;TZID=Asia/Manila:20220517T163000
DTSTAMP:20260420T023009
CREATED:20220430T135548Z
LAST-MODIFIED:20220430T135548Z
UID:7336-1652798700-1652805000@www.ballet.ph
SUMMARY:MISHA MARTYNYUK COMPANY CLASS
DESCRIPTION:
URL:https://www.ballet.ph/bp-event/misha-martynyuk-company-class-91/
END:VEVENT
BEGIN:VEVENT
DTSTART;TZID=Asia/Manila:20220517T164500
DTEND;TZID=Asia/Manila:20220517T200000
DTSTAMP:20260420T023009
CREATED:20220430T135839Z
LAST-MODIFIED:20220430T135839Z
UID:7356-1652805900-1652817600@www.ballet.ph
SUMMARY:COMPANY REHEARSAL
DESCRIPTION:
URL:https://www.ballet.ph/bp-event/company-rehearsal-51/
END:VEVENT
END:VCALENDAR