BEGIN:VCALENDAR
VERSION:2.0
PRODID:-//Ballet Philippines - ECPv6.15.17//NONSGML v1.0//EN
CALSCALE:GREGORIAN
METHOD:PUBLISH
X-ORIGINAL-URL:https://www.ballet.ph
X-WR-CALDESC:Events for Ballet Philippines
REFRESH-INTERVAL;VALUE=DURATION:PT1H
X-Robots-Tag:noindex
X-PUBLISHED-TTL:PT1H
BEGIN:VTIMEZONE
TZID:Asia/Manila
BEGIN:STANDARD
TZOFFSETFROM:+0800
TZOFFSETTO:+0800
TZNAME:PST
DTSTART:20210101T000000
END:STANDARD
END:VTIMEZONE
BEGIN:VEVENT
DTSTART;TZID=Asia/Manila:20220518T100000
DTEND;TZID=Asia/Manila:20220518T113000
DTSTAMP:20260420T041914
CREATED:20220430T135112Z
LAST-MODIFIED:20220430T135112Z
UID:7301-1652868000-1652873400@www.ballet.ph
SUMMARY:JOSEPH PHILLIPS OPEN CLASS
DESCRIPTION:
URL:https://www.ballet.ph/bp-event/joseph-phillips-open-class-59/
END:VEVENT
BEGIN:VEVENT
DTSTART;TZID=Asia/Manila:20220518T140000
DTEND;TZID=Asia/Manila:20220518T143000
DTSTAMP:20260420T041914
CREATED:20220430T135253Z
LAST-MODIFIED:20220430T135253Z
UID:7317-1652882400-1652884200@www.ballet.ph
SUMMARY:MISHA MARTYNYUK GYMNASTIC EXERCISE
DESCRIPTION:
URL:https://www.ballet.ph/bp-event/misha-martynyuk-gymnastic-exercise-52/
END:VEVENT
BEGIN:VEVENT
DTSTART;TZID=Asia/Manila:20220518T144500
DTEND;TZID=Asia/Manila:20220518T163000
DTSTAMP:20260420T041914
CREATED:20220430T135555Z
LAST-MODIFIED:20220430T135555Z
UID:7337-1652885100-1652891400@www.ballet.ph
SUMMARY:MISHA MARTYNYUK COMPANY CLASS
DESCRIPTION:
URL:https://www.ballet.ph/bp-event/misha-martynyuk-company-class-92/
END:VEVENT
BEGIN:VEVENT
DTSTART;TZID=Asia/Manila:20220518T164500
DTEND;TZID=Asia/Manila:20220518T200000
DTSTAMP:20260420T041914
CREATED:20220430T135849Z
LAST-MODIFIED:20220430T135849Z
UID:7357-1652892300-1652904000@www.ballet.ph
SUMMARY:COMPANY REHEARSAL
DESCRIPTION:
URL:https://www.ballet.ph/bp-event/company-rehearsal-52/
END:VEVENT
END:VCALENDAR