BEGIN:VCALENDAR
VERSION:2.0
PRODID:-//Ballet Philippines - ECPv6.15.17//NONSGML v1.0//EN
CALSCALE:GREGORIAN
METHOD:PUBLISH
X-WR-CALNAME:Ballet Philippines
X-ORIGINAL-URL:https://www.ballet.ph
X-WR-CALDESC:Events for Ballet Philippines
REFRESH-INTERVAL;VALUE=DURATION:PT1H
X-Robots-Tag:noindex
X-PUBLISHED-TTL:PT1H
BEGIN:VTIMEZONE
TZID:Asia/Manila
BEGIN:STANDARD
TZOFFSETFROM:+0800
TZOFFSETTO:+0800
TZNAME:PST
DTSTART:20210101T000000
END:STANDARD
END:VTIMEZONE
BEGIN:VEVENT
DTSTART;TZID=Asia/Manila:20220629T100000
DTEND;TZID=Asia/Manila:20220629T120000
DTSTAMP:20260419T231654
CREATED:20220607T001110Z
LAST-MODIFIED:20220607T001110Z
UID:7600-1656496800-1656504000@www.ballet.ph
SUMMARY:MIKHAIL MARTYNYUK COMPANY CLASS
DESCRIPTION:
URL:https://www.ballet.ph/bp-event/mikhail-martynyuk-company-class-21/
END:VEVENT
BEGIN:VEVENT
DTSTART;TZID=Asia/Manila:20220629T120000
DTEND;TZID=Asia/Manila:20220629T130000
DTSTAMP:20260419T231654
CREATED:20220607T001139Z
LAST-MODIFIED:20220607T001139Z
UID:7604-1656504000-1656507600@www.ballet.ph
SUMMARY:LUNCH BREAK
DESCRIPTION:
URL:https://www.ballet.ph/bp-event/lunch-break-21/
END:VEVENT
BEGIN:VEVENT
DTSTART;TZID=Asia/Manila:20220629T130000
DTEND;TZID=Asia/Manila:20220629T170000
DTSTAMP:20260419T231654
CREATED:20220607T001250Z
LAST-MODIFIED:20220607T001250Z
UID:7613-1656507600-1656522000@www.ballet.ph
SUMMARY:COMPANY REHEARSALS
DESCRIPTION:
URL:https://www.ballet.ph/bp-event/company-rehearsals-21/
END:VEVENT
END:VCALENDAR