BEGIN:VCALENDAR
VERSION:2.0
PRODID:-//Ballet Philippines - ECPv6.15.17//NONSGML v1.0//EN
CALSCALE:GREGORIAN
METHOD:PUBLISH
X-ORIGINAL-URL:https://www.ballet.ph
X-WR-CALDESC:Events for Ballet Philippines
REFRESH-INTERVAL;VALUE=DURATION:PT1H
X-Robots-Tag:noindex
X-PUBLISHED-TTL:PT1H
BEGIN:VTIMEZONE
TZID:Asia/Manila
BEGIN:STANDARD
TZOFFSETFROM:+0800
TZOFFSETTO:+0800
TZNAME:PST
DTSTART:20210101T000000
END:STANDARD
END:VTIMEZONE
BEGIN:VEVENT
DTSTART;TZID=Asia/Manila:20220701T100000
DTEND;TZID=Asia/Manila:20220701T120000
DTSTAMP:20260419T232032
CREATED:20220617T005621Z
LAST-MODIFIED:20220617T005621Z
UID:7687-1656669600-1656676800@www.ballet.ph
SUMMARY:MIKHAIL MARTYNYUK COMPANY CLASS
DESCRIPTION:
URL:https://www.ballet.ph/bp-event/mikhail-martynyuk-company-class-23/
END:VEVENT
BEGIN:VEVENT
DTSTART;TZID=Asia/Manila:20220701T120000
DTEND;TZID=Asia/Manila:20220701T130000
DTSTAMP:20260419T232032
CREATED:20220617T005828Z
LAST-MODIFIED:20220617T005828Z
UID:7690-1656676800-1656680400@www.ballet.ph
SUMMARY:LUNCH BREAK
DESCRIPTION:
URL:https://www.ballet.ph/bp-event/lunch-break-23/
END:VEVENT
BEGIN:VEVENT
DTSTART;TZID=Asia/Manila:20220701T130000
DTEND;TZID=Asia/Manila:20220701T170000
DTSTAMP:20260419T232032
CREATED:20220617T035443Z
LAST-MODIFIED:20220617T035443Z
UID:7701-1656680400-1656694800@www.ballet.ph
SUMMARY:COMPANY REHEARSALS
DESCRIPTION:
URL:https://www.ballet.ph/bp-event/company-rehearsals-23/
END:VEVENT
END:VCALENDAR