BEGIN:VCALENDAR
VERSION:2.0
PRODID:-//Ballet Philippines - ECPv6.15.17//NONSGML v1.0//EN
CALSCALE:GREGORIAN
METHOD:PUBLISH
X-WR-CALNAME:Ballet Philippines
X-ORIGINAL-URL:https://www.ballet.ph
X-WR-CALDESC:Events for Ballet Philippines
REFRESH-INTERVAL;VALUE=DURATION:PT1H
X-Robots-Tag:noindex
X-PUBLISHED-TTL:PT1H
BEGIN:VTIMEZONE
TZID:Asia/Manila
BEGIN:STANDARD
TZOFFSETFROM:+0800
TZOFFSETTO:+0800
TZNAME:PST
DTSTART:20210101T000000
END:STANDARD
END:VTIMEZONE
BEGIN:VEVENT
DTSTART;TZID=Asia/Manila:20220705T100000
DTEND;TZID=Asia/Manila:20220705T120000
DTSTAMP:20260419T231652
CREATED:20220617T035716Z
LAST-MODIFIED:20220617T035716Z
UID:7706-1657015200-1657022400@www.ballet.ph
SUMMARY:MIKHAIL MARTYNYUK COMPANY CLASS
DESCRIPTION:
URL:https://www.ballet.ph/bp-event/mikhail-martynyuk-company-class-25/
END:VEVENT
BEGIN:VEVENT
DTSTART;TZID=Asia/Manila:20220705T120000
DTEND;TZID=Asia/Manila:20220705T130000
DTSTAMP:20260419T231652
CREATED:20220617T035850Z
LAST-MODIFIED:20220617T035850Z
UID:7714-1657022400-1657026000@www.ballet.ph
SUMMARY:LUNCH BREAK
DESCRIPTION:
URL:https://www.ballet.ph/bp-event/lunch-break-25/
END:VEVENT
BEGIN:VEVENT
DTSTART;TZID=Asia/Manila:20220705T130000
DTEND;TZID=Asia/Manila:20220705T170000
DTSTAMP:20260419T231652
CREATED:20220617T040108Z
LAST-MODIFIED:20220617T040108Z
UID:7724-1657026000-1657040400@www.ballet.ph
SUMMARY:COMPANY REHEARSALS
DESCRIPTION:
URL:https://www.ballet.ph/bp-event/company-rehearsals-25/
END:VEVENT
END:VCALENDAR