BEGIN:VCALENDAR
VERSION:2.0
PRODID:-//Ballet Philippines - ECPv6.15.17//NONSGML v1.0//EN
CALSCALE:GREGORIAN
METHOD:PUBLISH
X-WR-CALNAME:Ballet Philippines
X-ORIGINAL-URL:https://www.ballet.ph
X-WR-CALDESC:Events for Ballet Philippines
REFRESH-INTERVAL;VALUE=DURATION:PT1H
X-Robots-Tag:noindex
X-PUBLISHED-TTL:PT1H
BEGIN:VTIMEZONE
TZID:Asia/Manila
BEGIN:STANDARD
TZOFFSETFROM:+0800
TZOFFSETTO:+0800
TZNAME:PST
DTSTART:20210101T000000
END:STANDARD
END:VTIMEZONE
BEGIN:VEVENT
DTSTART;TZID=Asia/Manila:20220707T100000
DTEND;TZID=Asia/Manila:20220707T120000
DTSTAMP:20260419T231638
CREATED:20220617T035737Z
LAST-MODIFIED:20220617T035737Z
UID:7708-1657188000-1657195200@www.ballet.ph
SUMMARY:MIKHAIL MARTYNYUK COMPANY CLASS
DESCRIPTION:
URL:https://www.ballet.ph/bp-event/mikhail-martynyuk-company-class-27/
END:VEVENT
BEGIN:VEVENT
DTSTART;TZID=Asia/Manila:20220707T120000
DTEND;TZID=Asia/Manila:20220707T130000
DTSTAMP:20260419T231638
CREATED:20220617T035909Z
LAST-MODIFIED:20220617T035909Z
UID:7716-1657195200-1657198800@www.ballet.ph
SUMMARY:LUNCH BREAK
DESCRIPTION:
URL:https://www.ballet.ph/bp-event/lunch-break-27/
END:VEVENT
BEGIN:VEVENT
DTSTART;TZID=Asia/Manila:20220707T130000
DTEND;TZID=Asia/Manila:20220707T170000
DTSTAMP:20260419T231638
CREATED:20220617T040125Z
LAST-MODIFIED:20220617T040125Z
UID:7726-1657198800-1657213200@www.ballet.ph
SUMMARY:COMPANY REHEARSALS
DESCRIPTION:
URL:https://www.ballet.ph/bp-event/company-rehearsals-27/
END:VEVENT
END:VCALENDAR