BEGIN:VCALENDAR
VERSION:2.0
PRODID:-//Ballet Philippines - ECPv6.15.17//NONSGML v1.0//EN
CALSCALE:GREGORIAN
METHOD:PUBLISH
X-WR-CALNAME:Ballet Philippines
X-ORIGINAL-URL:https://www.ballet.ph
X-WR-CALDESC:Events for Ballet Philippines
REFRESH-INTERVAL;VALUE=DURATION:PT1H
X-Robots-Tag:noindex
X-PUBLISHED-TTL:PT1H
BEGIN:VTIMEZONE
TZID:Asia/Manila
BEGIN:STANDARD
TZOFFSETFROM:+0800
TZOFFSETTO:+0800
TZNAME:PST
DTSTART:20210101T000000
END:STANDARD
END:VTIMEZONE
BEGIN:VEVENT
DTSTART;TZID=Asia/Manila:20220804T100000
DTEND;TZID=Asia/Manila:20220804T120000
DTSTAMP:20260419T215750
CREATED:20220729T084412Z
LAST-MODIFIED:20220729T084412Z
UID:8046-1659607200-1659614400@www.ballet.ph
SUMMARY:MISHA MARTYNYUK COMPANY CLASS
DESCRIPTION:
URL:https://www.ballet.ph/bp-event/misha-martynyuk-company-class-104/
END:VEVENT
BEGIN:VEVENT
DTSTART;TZID=Asia/Manila:20220804T120000
DTEND;TZID=Asia/Manila:20220804T130000
DTSTAMP:20260419T215750
CREATED:20220729T085509Z
LAST-MODIFIED:20220729T085509Z
UID:8094-1659614400-1659618000@www.ballet.ph
SUMMARY:LUNCH BREAK
DESCRIPTION:
URL:https://www.ballet.ph/bp-event/lunch-break-47/
END:VEVENT
BEGIN:VEVENT
DTSTART;TZID=Asia/Manila:20220804T130000
DTEND;TZID=Asia/Manila:20220804T170000
DTSTAMP:20260419T215750
CREATED:20220729T085633Z
LAST-MODIFIED:20220729T085633Z
UID:8105-1659618000-1659632400@www.ballet.ph
SUMMARY:COMPANY REHEARSALS
DESCRIPTION:
URL:https://www.ballet.ph/bp-event/company-rehearsals-47/
END:VEVENT
END:VCALENDAR