BEGIN:VCALENDAR
VERSION:2.0
PRODID:-//Ballet Philippines - ECPv6.15.17//NONSGML v1.0//EN
CALSCALE:GREGORIAN
METHOD:PUBLISH
X-ORIGINAL-URL:https://www.ballet.ph
X-WR-CALDESC:Events for Ballet Philippines
REFRESH-INTERVAL;VALUE=DURATION:PT1H
X-Robots-Tag:noindex
X-PUBLISHED-TTL:PT1H
BEGIN:VTIMEZONE
TZID:Asia/Manila
BEGIN:STANDARD
TZOFFSETFROM:+0800
TZOFFSETTO:+0800
TZNAME:PST
DTSTART:20210101T000000
END:STANDARD
END:VTIMEZONE
BEGIN:VEVENT
DTSTART;TZID=Asia/Manila:20220809T100000
DTEND;TZID=Asia/Manila:20220809T120000
DTSTAMP:20260419T214643
CREATED:20220729T084546Z
LAST-MODIFIED:20220729T084546Z
UID:8054-1660039200-1660046400@www.ballet.ph
SUMMARY:MISHA MARTYNYUK COMPANY CLASS
DESCRIPTION:
URL:https://www.ballet.ph/bp-event/misha-martynyuk-company-class-107/
END:VEVENT
BEGIN:VEVENT
DTSTART;TZID=Asia/Manila:20220809T120000
DTEND;TZID=Asia/Manila:20220809T130000
DTSTAMP:20260419T214643
CREATED:20220729T085809Z
LAST-MODIFIED:20220729T085844Z
UID:8114-1660046400-1660050000@www.ballet.ph
SUMMARY:LUNCH BREAK
DESCRIPTION:
URL:https://www.ballet.ph/bp-event/lunch-break-50/
END:VEVENT
BEGIN:VEVENT
DTSTART;TZID=Asia/Manila:20220809T130000
DTEND;TZID=Asia/Manila:20220809T170000
DTSTAMP:20260419T214643
CREATED:20220729T085916Z
LAST-MODIFIED:20220729T085916Z
UID:8121-1660050000-1660064400@www.ballet.ph
SUMMARY:COMPANY REHEARSALS
DESCRIPTION:
URL:https://www.ballet.ph/bp-event/company-rehearsals-50/
END:VEVENT
END:VCALENDAR