BEGIN:VCALENDAR
VERSION:2.0
PRODID:-//Ballet Philippines - ECPv6.15.17//NONSGML v1.0//EN
CALSCALE:GREGORIAN
METHOD:PUBLISH
X-ORIGINAL-URL:https://www.ballet.ph
X-WR-CALDESC:Events for Ballet Philippines
REFRESH-INTERVAL;VALUE=DURATION:PT1H
X-Robots-Tag:noindex
X-PUBLISHED-TTL:PT1H
BEGIN:VTIMEZONE
TZID:Asia/Manila
BEGIN:STANDARD
TZOFFSETFROM:+0800
TZOFFSETTO:+0800
TZNAME:PST
DTSTART:20210101T000000
END:STANDARD
END:VTIMEZONE
BEGIN:VEVENT
DTSTART;TZID=Asia/Manila:20220810T100000
DTEND;TZID=Asia/Manila:20220810T120000
DTSTAMP:20260419T214505
CREATED:20220729T084555Z
LAST-MODIFIED:20220729T084555Z
UID:8055-1660125600-1660132800@www.ballet.ph
SUMMARY:MISHA MARTYNYUK COMPANY CLASS
DESCRIPTION:
URL:https://www.ballet.ph/bp-event/misha-martynyuk-company-class-108/
END:VEVENT
BEGIN:VEVENT
DTSTART;TZID=Asia/Manila:20220810T120000
DTEND;TZID=Asia/Manila:20220810T130000
DTSTAMP:20260419T214505
CREATED:20220729T090208Z
LAST-MODIFIED:20220729T090208Z
UID:8115-1660132800-1660136400@www.ballet.ph
SUMMARY:LUNCH BREAK
DESCRIPTION:
URL:https://www.ballet.ph/bp-event/lunch-break-51/
END:VEVENT
BEGIN:VEVENT
DTSTART;TZID=Asia/Manila:20220810T130000
DTEND;TZID=Asia/Manila:20220810T170000
DTSTAMP:20260419T214505
CREATED:20220729T090233Z
LAST-MODIFIED:20220729T090357Z
UID:8116-1660136400-1660150800@www.ballet.ph
SUMMARY:COMPANY REHEARSALS
DESCRIPTION:
URL:https://www.ballet.ph/bp-event/company-rehearsals-51/
END:VEVENT
END:VCALENDAR