BEGIN:VCALENDAR
VERSION:2.0
PRODID:-//Ballet Philippines - ECPv6.15.17//NONSGML v1.0//EN
CALSCALE:GREGORIAN
METHOD:PUBLISH
X-WR-CALNAME:Ballet Philippines
X-ORIGINAL-URL:https://www.ballet.ph
X-WR-CALDESC:Events for Ballet Philippines
REFRESH-INTERVAL;VALUE=DURATION:PT1H
X-Robots-Tag:noindex
X-PUBLISHED-TTL:PT1H
BEGIN:VTIMEZONE
TZID:Asia/Manila
BEGIN:STANDARD
TZOFFSETFROM:+0800
TZOFFSETTO:+0800
TZNAME:PST
DTSTART:20210101T000000
END:STANDARD
END:VTIMEZONE
BEGIN:VEVENT
DTSTART;TZID=Asia/Manila:20220816T100000
DTEND;TZID=Asia/Manila:20220816T120000
DTSTAMP:20260419T213953
CREATED:20220729T084834Z
LAST-MODIFIED:20220729T084834Z
UID:8065-1660644000-1660651200@www.ballet.ph
SUMMARY:MISHA MARTYNYUK COMPANY CLASS
DESCRIPTION:
URL:https://www.ballet.ph/bp-event/misha-martynyuk-company-class-112/
END:VEVENT
BEGIN:VEVENT
DTSTART;TZID=Asia/Manila:20220816T120000
DTEND;TZID=Asia/Manila:20220816T130000
DTSTAMP:20260419T213953
CREATED:20220729T093102Z
LAST-MODIFIED:20220729T093102Z
UID:8137-1660651200-1660654800@www.ballet.ph
SUMMARY:LUNCH BREAK
DESCRIPTION:
URL:https://www.ballet.ph/bp-event/lunch-break-55/
END:VEVENT
BEGIN:VEVENT
DTSTART;TZID=Asia/Manila:20220816T130000
DTEND;TZID=Asia/Manila:20220816T170000
DTSTAMP:20260419T213953
CREATED:20220729T094358Z
LAST-MODIFIED:20220729T094358Z
UID:8157-1660654800-1660669200@www.ballet.ph
SUMMARY:COMPANY REHEARSALS
DESCRIPTION:
URL:https://www.ballet.ph/bp-event/company-rehearsals-55/
END:VEVENT
END:VCALENDAR