BEGIN:VCALENDAR
VERSION:2.0
PRODID:-//Ballet Philippines - ECPv6.15.17//NONSGML v1.0//EN
CALSCALE:GREGORIAN
METHOD:PUBLISH
X-ORIGINAL-URL:https://www.ballet.ph
X-WR-CALDESC:Events for Ballet Philippines
REFRESH-INTERVAL;VALUE=DURATION:PT1H
X-Robots-Tag:noindex
X-PUBLISHED-TTL:PT1H
BEGIN:VTIMEZONE
TZID:Asia/Manila
BEGIN:STANDARD
TZOFFSETFROM:+0800
TZOFFSETTO:+0800
TZNAME:PST
DTSTART:20210101T000000
END:STANDARD
END:VTIMEZONE
BEGIN:VEVENT
DTSTART;TZID=Asia/Manila:20220826T100000
DTEND;TZID=Asia/Manila:20220826T120000
DTSTAMP:20260419T214539
CREATED:20220729T085118Z
LAST-MODIFIED:20220729T085118Z
UID:8078-1661508000-1661515200@www.ballet.ph
SUMMARY:MISHA MARTYNYUK COMPANY CLASS
DESCRIPTION:
URL:https://www.ballet.ph/bp-event/misha-martynyuk-company-class-120/
END:VEVENT
BEGIN:VEVENT
DTSTART;TZID=Asia/Manila:20220826T120000
DTEND;TZID=Asia/Manila:20220826T130000
DTSTAMP:20260419T214539
CREATED:20220729T093351Z
LAST-MODIFIED:20220729T094309Z
UID:8150-1661515200-1661518800@www.ballet.ph
SUMMARY:LUNCH BREAK
DESCRIPTION:
URL:https://www.ballet.ph/bp-event/lunch-break-63/
END:VEVENT
BEGIN:VEVENT
DTSTART;TZID=Asia/Manila:20220826T130000
DTEND;TZID=Asia/Manila:20220826T170000
DTSTAMP:20260419T214539
CREATED:20220729T094551Z
LAST-MODIFIED:20220729T094551Z
UID:8170-1661518800-1661533200@www.ballet.ph
SUMMARY:COMPANY REHEARSALS
DESCRIPTION:
URL:https://www.ballet.ph/bp-event/company-rehearsals-63/
END:VEVENT
END:VCALENDAR