BEGIN:VCALENDAR
VERSION:2.0
PRODID:-//Ballet Philippines - ECPv6.15.17//NONSGML v1.0//EN
CALSCALE:GREGORIAN
METHOD:PUBLISH
X-WR-CALNAME:Ballet Philippines
X-ORIGINAL-URL:https://www.ballet.ph
X-WR-CALDESC:Events for Ballet Philippines
REFRESH-INTERVAL;VALUE=DURATION:PT1H
X-Robots-Tag:noindex
X-PUBLISHED-TTL:PT1H
BEGIN:VTIMEZONE
TZID:Asia/Manila
BEGIN:STANDARD
TZOFFSETFROM:+0800
TZOFFSETTO:+0800
TZNAME:PST
DTSTART:20210101T000000
END:STANDARD
END:VTIMEZONE
BEGIN:VEVENT
DTSTART;TZID=Asia/Manila:20220827T100000
DTEND;TZID=Asia/Manila:20220827T120000
DTSTAMP:20260419T214010
CREATED:20220729T085127Z
LAST-MODIFIED:20220729T085127Z
UID:8079-1661594400-1661601600@www.ballet.ph
SUMMARY:MISHA MARTYNYUK COMPANY CLASS
DESCRIPTION:
URL:https://www.ballet.ph/bp-event/misha-martynyuk-company-class-121/
END:VEVENT
BEGIN:VEVENT
DTSTART;TZID=Asia/Manila:20220827T120000
DTEND;TZID=Asia/Manila:20220827T130000
DTSTAMP:20260419T214010
CREATED:20220729T093359Z
LAST-MODIFIED:20220729T094315Z
UID:8151-1661601600-1661605200@www.ballet.ph
SUMMARY:LUNCH BREAK
DESCRIPTION:
URL:https://www.ballet.ph/bp-event/lunch-break-64/
END:VEVENT
BEGIN:VEVENT
DTSTART;TZID=Asia/Manila:20220827T130000
DTEND;TZID=Asia/Manila:20220827T170000
DTSTAMP:20260419T214010
CREATED:20220729T094557Z
LAST-MODIFIED:20220729T094557Z
UID:8171-1661605200-1661619600@www.ballet.ph
SUMMARY:COMPANY REHEARSALS
DESCRIPTION:
URL:https://www.ballet.ph/bp-event/company-rehearsals-64/
END:VEVENT
END:VCALENDAR