BEGIN:VCALENDAR
VERSION:2.0
PRODID:-//Ballet Philippines - ECPv6.15.17//NONSGML v1.0//EN
CALSCALE:GREGORIAN
METHOD:PUBLISH
X-ORIGINAL-URL:https://www.ballet.ph
X-WR-CALDESC:Events for Ballet Philippines
REFRESH-INTERVAL;VALUE=DURATION:PT1H
X-Robots-Tag:noindex
X-PUBLISHED-TTL:PT1H
BEGIN:VTIMEZONE
TZID:Asia/Manila
BEGIN:STANDARD
TZOFFSETFROM:+0800
TZOFFSETTO:+0800
TZNAME:PST
DTSTART:20210101T000000
END:STANDARD
END:VTIMEZONE
BEGIN:VEVENT
DTSTART;TZID=Asia/Manila:20220831T100000
DTEND;TZID=Asia/Manila:20220831T120000
DTSTAMP:20260419T232024
CREATED:20220729T085250Z
LAST-MODIFIED:20220729T085250Z
UID:8087-1661940000-1661947200@www.ballet.ph
SUMMARY:MISHA MARTYNYUK COMPANY CLASS
DESCRIPTION:
URL:https://www.ballet.ph/bp-event/misha-martynyuk-company-class-123/
END:VEVENT
BEGIN:VEVENT
DTSTART;TZID=Asia/Manila:20220831T120000
DTEND;TZID=Asia/Manila:20220831T130000
DTSTAMP:20260419T232024
CREATED:20220729T094816Z
LAST-MODIFIED:20220729T094901Z
UID:8180-1661947200-1661950800@www.ballet.ph
SUMMARY:LUNCH BREAK
DESCRIPTION:
URL:https://www.ballet.ph/bp-event/lunch-break-66/
END:VEVENT
BEGIN:VEVENT
DTSTART;TZID=Asia/Manila:20220831T130000
DTEND;TZID=Asia/Manila:20220831T170000
DTSTAMP:20260419T232024
CREATED:20220729T094735Z
LAST-MODIFIED:20220729T094735Z
UID:8178-1661950800-1661965200@www.ballet.ph
SUMMARY:COMPANY REHEARSALS
DESCRIPTION:
URL:https://www.ballet.ph/bp-event/company-rehearsals-66/
END:VEVENT
END:VCALENDAR