BEGIN:VCALENDAR
VERSION:2.0
PRODID:-//Ballet Philippines - ECPv6.15.17//NONSGML v1.0//EN
CALSCALE:GREGORIAN
METHOD:PUBLISH
X-WR-CALNAME:Ballet Philippines
X-ORIGINAL-URL:https://www.ballet.ph
X-WR-CALDESC:Events for Ballet Philippines
REFRESH-INTERVAL;VALUE=DURATION:PT1H
X-Robots-Tag:noindex
X-PUBLISHED-TTL:PT1H
BEGIN:VTIMEZONE
TZID:Asia/Manila
BEGIN:STANDARD
TZOFFSETFROM:+0800
TZOFFSETTO:+0800
TZNAME:PST
DTSTART:20210101T000000
END:STANDARD
END:VTIMEZONE
BEGIN:VEVENT
DTSTART;TZID=Asia/Manila:20220902T100000
DTEND;TZID=Asia/Manila:20220902T120000
DTSTAMP:20260419T214335
CREATED:20220825T110327Z
LAST-MODIFIED:20220825T110327Z
UID:8223-1662112800-1662120000@www.ballet.ph
SUMMARY:MISHA MARTYNYUK COMPANY CLASS
DESCRIPTION:
URL:https://www.ballet.ph/bp-event/misha-martynyuk-company-class-125/
END:VEVENT
BEGIN:VEVENT
DTSTART;TZID=Asia/Manila:20220902T120000
DTEND;TZID=Asia/Manila:20220902T130000
DTSTAMP:20260419T214335
CREATED:20220825T110650Z
LAST-MODIFIED:20220825T110650Z
UID:8231-1662120000-1662123600@www.ballet.ph
SUMMARY:LUNCH BREAK
DESCRIPTION:
URL:https://www.ballet.ph/bp-event/lunch-break-68/
END:VEVENT
BEGIN:VEVENT
DTSTART;TZID=Asia/Manila:20220902T130000
DTEND;TZID=Asia/Manila:20220902T170000
DTSTAMP:20260419T214335
CREATED:20220825T110736Z
LAST-MODIFIED:20220825T110736Z
UID:8237-1662123600-1662138000@www.ballet.ph
SUMMARY:COMPANY REHEARSALS
DESCRIPTION:
URL:https://www.ballet.ph/bp-event/company-rehearsals-68/
END:VEVENT
END:VCALENDAR