BEGIN:VCALENDAR
VERSION:2.0
PRODID:-//Ballet Philippines - ECPv6.15.17//NONSGML v1.0//EN
CALSCALE:GREGORIAN
METHOD:PUBLISH
X-ORIGINAL-URL:https://www.ballet.ph
X-WR-CALDESC:Events for Ballet Philippines
REFRESH-INTERVAL;VALUE=DURATION:PT1H
X-Robots-Tag:noindex
X-PUBLISHED-TTL:PT1H
BEGIN:VTIMEZONE
TZID:Asia/Manila
BEGIN:STANDARD
TZOFFSETFROM:+0800
TZOFFSETTO:+0800
TZNAME:PST
DTSTART:20210101T000000
END:STANDARD
END:VTIMEZONE
BEGIN:VEVENT
DTSTART;TZID=Asia/Manila:20220903T100000
DTEND;TZID=Asia/Manila:20220903T120000
DTSTAMP:20260419T214642
CREATED:20220825T110339Z
LAST-MODIFIED:20220825T110339Z
UID:8224-1662199200-1662206400@www.ballet.ph
SUMMARY:MISHA MARTYNYUK COMPANY CLASS
DESCRIPTION:
URL:https://www.ballet.ph/bp-event/misha-martynyuk-company-class-126/
END:VEVENT
BEGIN:VEVENT
DTSTART;TZID=Asia/Manila:20220903T120000
DTEND;TZID=Asia/Manila:20220903T130000
DTSTAMP:20260419T214642
CREATED:20220825T110659Z
LAST-MODIFIED:20220825T110659Z
UID:8232-1662206400-1662210000@www.ballet.ph
SUMMARY:LUNCH BREAK
DESCRIPTION:
URL:https://www.ballet.ph/bp-event/lunch-break-69/
END:VEVENT
BEGIN:VEVENT
DTSTART;TZID=Asia/Manila:20220903T130000
DTEND;TZID=Asia/Manila:20220903T170000
DTSTAMP:20260419T214642
CREATED:20220825T110742Z
LAST-MODIFIED:20220825T110742Z
UID:8238-1662210000-1662224400@www.ballet.ph
SUMMARY:COMPANY REHEARSALS
DESCRIPTION:
URL:https://www.ballet.ph/bp-event/company-rehearsals-69/
END:VEVENT
END:VCALENDAR