BEGIN:VCALENDAR
VERSION:2.0
PRODID:-//Ballet Philippines - ECPv6.15.17//NONSGML v1.0//EN
CALSCALE:GREGORIAN
METHOD:PUBLISH
X-WR-CALNAME:Ballet Philippines
X-ORIGINAL-URL:https://www.ballet.ph
X-WR-CALDESC:Events for Ballet Philippines
REFRESH-INTERVAL;VALUE=DURATION:PT1H
X-Robots-Tag:noindex
X-PUBLISHED-TTL:PT1H
BEGIN:VTIMEZONE
TZID:Asia/Manila
BEGIN:STANDARD
TZOFFSETFROM:+0800
TZOFFSETTO:+0800
TZNAME:PST
DTSTART:20210101T000000
END:STANDARD
END:VTIMEZONE
BEGIN:VEVENT
DTSTART;TZID=Asia/Manila:20220906T100000
DTEND;TZID=Asia/Manila:20220906T120000
DTSTAMP:20260419T231721
CREATED:20220825T111036Z
LAST-MODIFIED:20220825T111036Z
UID:8242-1662458400-1662465600@www.ballet.ph
SUMMARY:MISHA MARTYNYUK COMPANY CLASS
DESCRIPTION:
URL:https://www.ballet.ph/bp-event/misha-martynyuk-company-class-127/
END:VEVENT
BEGIN:VEVENT
DTSTART;TZID=Asia/Manila:20220906T120000
DTEND;TZID=Asia/Manila:20220906T130000
DTSTAMP:20260419T231721
CREATED:20220825T111221Z
LAST-MODIFIED:20220825T111221Z
UID:8253-1662465600-1662469200@www.ballet.ph
SUMMARY:LUNCH BREAK
DESCRIPTION:
URL:https://www.ballet.ph/bp-event/lunch-break-70/
END:VEVENT
BEGIN:VEVENT
DTSTART;TZID=Asia/Manila:20220906T130000
DTEND;TZID=Asia/Manila:20220906T170000
DTSTAMP:20260419T231721
CREATED:20220825T111331Z
LAST-MODIFIED:20220825T111331Z
UID:8263-1662469200-1662483600@www.ballet.ph
SUMMARY:COMPANY REHEARSALS
DESCRIPTION:
URL:https://www.ballet.ph/bp-event/company-rehearsals-70/
END:VEVENT
END:VCALENDAR