BEGIN:VCALENDAR
VERSION:2.0
PRODID:-//Ballet Philippines - ECPv6.15.17//NONSGML v1.0//EN
CALSCALE:GREGORIAN
METHOD:PUBLISH
X-WR-CALNAME:Ballet Philippines
X-ORIGINAL-URL:https://www.ballet.ph
X-WR-CALDESC:Events for Ballet Philippines
REFRESH-INTERVAL;VALUE=DURATION:PT1H
X-Robots-Tag:noindex
X-PUBLISHED-TTL:PT1H
BEGIN:VTIMEZONE
TZID:Asia/Manila
BEGIN:STANDARD
TZOFFSETFROM:+0800
TZOFFSETTO:+0800
TZNAME:PST
DTSTART:20210101T000000
END:STANDARD
END:VTIMEZONE
BEGIN:VEVENT
DTSTART;TZID=Asia/Manila:20220917T100000
DTEND;TZID=Asia/Manila:20220917T120000
DTSTAMP:20260419T231747
CREATED:20220825T111834Z
LAST-MODIFIED:20220825T111834Z
UID:8306-1663408800-1663416000@www.ballet.ph
SUMMARY:MISHA MARTYNYUK COMPANY CLASS
DESCRIPTION:
URL:https://www.ballet.ph/bp-event/misha-martynyuk-company-class-136/
END:VEVENT
BEGIN:VEVENT
DTSTART;TZID=Asia/Manila:20220917T120000
DTEND;TZID=Asia/Manila:20220917T130000
DTSTAMP:20260419T231747
CREATED:20220825T112215Z
LAST-MODIFIED:20220825T112215Z
UID:8333-1663416000-1663419600@www.ballet.ph
SUMMARY:LUNCH BREAK
DESCRIPTION:
URL:https://www.ballet.ph/bp-event/lunch-break-79/
END:VEVENT
BEGIN:VEVENT
DTSTART;TZID=Asia/Manila:20220917T130000
DTEND;TZID=Asia/Manila:20220917T170000
DTSTAMP:20260419T231747
CREATED:20220825T111508Z
LAST-MODIFIED:20220825T111508Z
UID:8277-1663419600-1663434000@www.ballet.ph
SUMMARY:COMPANY REHEARSALS
DESCRIPTION:
URL:https://www.ballet.ph/bp-event/company-rehearsals-79/
END:VEVENT
END:VCALENDAR