BEGIN:VCALENDAR
VERSION:2.0
PRODID:-//Ballet Philippines - ECPv6.15.17//NONSGML v1.0//EN
CALSCALE:GREGORIAN
METHOD:PUBLISH
X-WR-CALNAME:Ballet Philippines
X-ORIGINAL-URL:https://www.ballet.ph
X-WR-CALDESC:Events for Ballet Philippines
REFRESH-INTERVAL;VALUE=DURATION:PT1H
X-Robots-Tag:noindex
X-PUBLISHED-TTL:PT1H
BEGIN:VTIMEZONE
TZID:Asia/Manila
BEGIN:STANDARD
TZOFFSETFROM:+0800
TZOFFSETTO:+0800
TZNAME:PST
DTSTART:20210101T000000
END:STANDARD
END:VTIMEZONE
BEGIN:VEVENT
DTSTART;TZID=Asia/Manila:20220922T100000
DTEND;TZID=Asia/Manila:20220922T120000
DTSTAMP:20260419T231723
CREATED:20220825T111922Z
LAST-MODIFIED:20220825T111922Z
UID:8314-1663840800-1663848000@www.ballet.ph
SUMMARY:MISHA MARTYNYUK COMPANY CLASS
DESCRIPTION:
URL:https://www.ballet.ph/bp-event/misha-martynyuk-company-class-139/
END:VEVENT
BEGIN:VEVENT
DTSTART;TZID=Asia/Manila:20220922T120000
DTEND;TZID=Asia/Manila:20220922T130000
DTSTAMP:20260419T231723
CREATED:20220825T112308Z
LAST-MODIFIED:20220825T112308Z
UID:8342-1663848000-1663851600@www.ballet.ph
SUMMARY:LUNCH BREAK
DESCRIPTION:
URL:https://www.ballet.ph/bp-event/lunch-break-82/
END:VEVENT
BEGIN:VEVENT
DTSTART;TZID=Asia/Manila:20220922T130000
DTEND;TZID=Asia/Manila:20220922T170000
DTSTAMP:20260419T231723
CREATED:20220825T111540Z
LAST-MODIFIED:20220825T111540Z
UID:8285-1663851600-1663866000@www.ballet.ph
SUMMARY:COMPANY REHEARSALS
DESCRIPTION:
URL:https://www.ballet.ph/bp-event/company-rehearsals-82/
END:VEVENT
END:VCALENDAR