BEGIN:VCALENDAR
VERSION:2.0
PRODID:-//Ballet Philippines - ECPv6.15.17//NONSGML v1.0//EN
CALSCALE:GREGORIAN
METHOD:PUBLISH
X-ORIGINAL-URL:https://www.ballet.ph
X-WR-CALDESC:Events for Ballet Philippines
REFRESH-INTERVAL;VALUE=DURATION:PT1H
X-Robots-Tag:noindex
X-PUBLISHED-TTL:PT1H
BEGIN:VTIMEZONE
TZID:Asia/Manila
BEGIN:STANDARD
TZOFFSETFROM:+0800
TZOFFSETTO:+0800
TZNAME:PST
DTSTART:20210101T000000
END:STANDARD
END:VTIMEZONE
BEGIN:VEVENT
DTSTART;TZID=Asia/Manila:20221108T100000
DTEND;TZID=Asia/Manila:20221108T120000
DTSTAMP:20260420T023001
CREATED:20221108T064455Z
LAST-MODIFIED:20221108T064455Z
UID:8544-1667901600-1667908800@www.ballet.ph
SUMMARY:MISHA MARTYNYUK COMPANY CLASS
DESCRIPTION:
URL:https://www.ballet.ph/bp-event/misha-martynyuk-company-class-150/
END:VEVENT
BEGIN:VEVENT
DTSTART;TZID=Asia/Manila:20221108T120000
DTEND;TZID=Asia/Manila:20221108T130000
DTSTAMP:20260420T023001
CREATED:20221108T064736Z
LAST-MODIFIED:20221108T064736Z
UID:8564-1667908800-1667912400@www.ballet.ph
SUMMARY:LUNCH BREAK
DESCRIPTION:
URL:https://www.ballet.ph/bp-event/lunch-break-93/
END:VEVENT
BEGIN:VEVENT
DTSTART;TZID=Asia/Manila:20221108T130000
DTEND;TZID=Asia/Manila:20221108T170000
DTSTAMP:20260420T023001
CREATED:20221108T065108Z
LAST-MODIFIED:20221108T065108Z
UID:8584-1667912400-1667926800@www.ballet.ph
SUMMARY:COMPANY REHEARSALS
DESCRIPTION:
URL:https://www.ballet.ph/bp-event/company-rehearsals-93/
END:VEVENT
END:VCALENDAR