BEGIN:VCALENDAR
VERSION:2.0
PRODID:-//Ballet Philippines - ECPv6.15.17//NONSGML v1.0//EN
CALSCALE:GREGORIAN
METHOD:PUBLISH
X-ORIGINAL-URL:https://www.ballet.ph
X-WR-CALDESC:Events for Ballet Philippines
REFRESH-INTERVAL;VALUE=DURATION:PT1H
X-Robots-Tag:noindex
X-PUBLISHED-TTL:PT1H
BEGIN:VTIMEZONE
TZID:Asia/Manila
BEGIN:STANDARD
TZOFFSETFROM:+0800
TZOFFSETTO:+0800
TZNAME:PST
DTSTART:20210101T000000
END:STANDARD
END:VTIMEZONE
BEGIN:VEVENT
DTSTART;TZID=Asia/Manila:20221122T100000
DTEND;TZID=Asia/Manila:20221122T120000
DTSTAMP:20260420T041915
CREATED:20221108T065511Z
LAST-MODIFIED:20221108T065511Z
UID:8606-1669111200-1669118400@www.ballet.ph
SUMMARY:MISHA MARTYNYUK COMPANY CLASS
DESCRIPTION:
URL:https://www.ballet.ph/bp-event/misha-martynyuk-company-class-160/
END:VEVENT
BEGIN:VEVENT
DTSTART;TZID=Asia/Manila:20221122T120000
DTEND;TZID=Asia/Manila:20221122T130000
DTSTAMP:20260420T041915
CREATED:20221108T070720Z
LAST-MODIFIED:20221108T070720Z
UID:8627-1669118400-1669122000@www.ballet.ph
SUMMARY:LUNCH BREAK
DESCRIPTION:
URL:https://www.ballet.ph/bp-event/lunch-break-104/
END:VEVENT
BEGIN:VEVENT
DTSTART;TZID=Asia/Manila:20221122T130000
DTEND;TZID=Asia/Manila:20221122T170000
DTSTAMP:20260420T041915
CREATED:20221108T070926Z
LAST-MODIFIED:20221108T070926Z
UID:8633-1669122000-1669136400@www.ballet.ph
SUMMARY:COMPANY REHEARSALS
DESCRIPTION:
URL:https://www.ballet.ph/bp-event/company-rehearsals-104/
END:VEVENT
END:VCALENDAR