BEGIN:VCALENDAR
VERSION:2.0
PRODID:-//Ballet Philippines - ECPv6.15.17//NONSGML v1.0//EN
CALSCALE:GREGORIAN
METHOD:PUBLISH
X-ORIGINAL-URL:https://www.ballet.ph
X-WR-CALDESC:Events for Ballet Philippines
REFRESH-INTERVAL;VALUE=DURATION:PT1H
X-Robots-Tag:noindex
X-PUBLISHED-TTL:PT1H
BEGIN:VTIMEZONE
TZID:Asia/Manila
BEGIN:STANDARD
TZOFFSETFROM:+0800
TZOFFSETTO:+0800
TZNAME:PST
DTSTART:20210101T000000
END:STANDARD
END:VTIMEZONE
BEGIN:VEVENT
DTSTART;TZID=Asia/Manila:20221129T100000
DTEND;TZID=Asia/Manila:20221129T120000
DTSTAMP:20260420T041914
CREATED:20221108T070501Z
LAST-MODIFIED:20221108T070501Z
UID:8611-1669716000-1669723200@www.ballet.ph
SUMMARY:MISHA MARTYNYUK COMPANY CLASS
DESCRIPTION:
URL:https://www.ballet.ph/bp-event/misha-martynyuk-company-class-165/
END:VEVENT
BEGIN:VEVENT
DTSTART;TZID=Asia/Manila:20221129T120000
DTEND;TZID=Asia/Manila:20221129T130000
DTSTAMP:20260420T041914
CREATED:20221108T070536Z
LAST-MODIFIED:20221108T070536Z
UID:8612-1669723200-1669726800@www.ballet.ph
SUMMARY:LUNCH BREAK
DESCRIPTION:
URL:https://www.ballet.ph/bp-event/lunch-break-103/
END:VEVENT
BEGIN:VEVENT
DTSTART;TZID=Asia/Manila:20221129T130000
DTEND;TZID=Asia/Manila:20221129T170000
DTSTAMP:20260420T041914
CREATED:20221108T070600Z
LAST-MODIFIED:20221108T070600Z
UID:8620-1669726800-1669741200@www.ballet.ph
SUMMARY:COMPANY REHEARSALS
DESCRIPTION:
URL:https://www.ballet.ph/bp-event/company-rehearsals-103/
END:VEVENT
END:VCALENDAR