BEGIN:VCALENDAR
VERSION:2.0
PRODID:-//Ballet Philippines - ECPv6.15.17//NONSGML v1.0//EN
CALSCALE:GREGORIAN
METHOD:PUBLISH
X-ORIGINAL-URL:https://www.ballet.ph
X-WR-CALDESC:Events for Ballet Philippines
REFRESH-INTERVAL;VALUE=DURATION:PT1H
X-Robots-Tag:noindex
X-PUBLISHED-TTL:PT1H
BEGIN:VTIMEZONE
TZID:Asia/Manila
BEGIN:STANDARD
TZOFFSETFROM:+0800
TZOFFSETTO:+0800
TZNAME:PST
DTSTART:20210101T000000
END:STANDARD
END:VTIMEZONE
BEGIN:VEVENT
DTSTART;TZID=Asia/Manila:20221202T100000
DTEND;TZID=Asia/Manila:20221202T120000
DTSTAMP:20260420T023136
CREATED:20221128T073315Z
LAST-MODIFIED:20221128T073315Z
UID:8667-1669975200-1669982400@www.ballet.ph
SUMMARY:MISHA MARTYNYUK COMPANY CLASS
DESCRIPTION:
URL:https://www.ballet.ph/bp-event/misha-martynyuk-company-class-167/
END:VEVENT
BEGIN:VEVENT
DTSTART;TZID=Asia/Manila:20221202T120000
DTEND;TZID=Asia/Manila:20221202T130000
DTSTAMP:20260420T023136
CREATED:20221128T073405Z
LAST-MODIFIED:20221128T073405Z
UID:8672-1669982400-1669986000@www.ballet.ph
SUMMARY:LUNCH BREAK
DESCRIPTION:
URL:https://www.ballet.ph/bp-event/lunch-break-110/
END:VEVENT
BEGIN:VEVENT
DTSTART;TZID=Asia/Manila:20221202T130000
DTEND;TZID=Asia/Manila:20221202T170000
DTSTAMP:20260420T023136
CREATED:20221128T073440Z
LAST-MODIFIED:20221128T073440Z
UID:8678-1669986000-1670000400@www.ballet.ph
SUMMARY:COMPANY REHEARSALS
DESCRIPTION:
URL:https://www.ballet.ph/bp-event/company-rehearsals-110/
END:VEVENT
END:VCALENDAR