BEGIN:VCALENDAR
VERSION:2.0
PRODID:-//Ballet Philippines - ECPv6.15.17//NONSGML v1.0//EN
CALSCALE:GREGORIAN
METHOD:PUBLISH
X-ORIGINAL-URL:https://www.ballet.ph
X-WR-CALDESC:Events for Ballet Philippines
REFRESH-INTERVAL;VALUE=DURATION:PT1H
X-Robots-Tag:noindex
X-PUBLISHED-TTL:PT1H
BEGIN:VTIMEZONE
TZID:Asia/Manila
BEGIN:STANDARD
TZOFFSETFROM:+0800
TZOFFSETTO:+0800
TZNAME:PST
DTSTART:20210101T000000
END:STANDARD
END:VTIMEZONE
BEGIN:VEVENT
DTSTART;TZID=Asia/Manila:20221203T100000
DTEND;TZID=Asia/Manila:20221203T120000
DTSTAMP:20260420T042025
CREATED:20221128T073325Z
LAST-MODIFIED:20221128T073325Z
UID:8668-1670061600-1670068800@www.ballet.ph
SUMMARY:MISHA MARTYNYUK COMPANY CLASS
DESCRIPTION:
URL:https://www.ballet.ph/bp-event/misha-martynyuk-company-class-168/
END:VEVENT
BEGIN:VEVENT
DTSTART;TZID=Asia/Manila:20221203T120000
DTEND;TZID=Asia/Manila:20221203T130000
DTSTAMP:20260420T042025
CREATED:20221128T073413Z
LAST-MODIFIED:20221128T073413Z
UID:8673-1670068800-1670072400@www.ballet.ph
SUMMARY:LUNCH BREAK
DESCRIPTION:
URL:https://www.ballet.ph/bp-event/lunch-break-111/
END:VEVENT
BEGIN:VEVENT
DTSTART;TZID=Asia/Manila:20221203T130000
DTEND;TZID=Asia/Manila:20221203T170000
DTSTAMP:20260420T042025
CREATED:20221128T073447Z
LAST-MODIFIED:20221128T073447Z
UID:8679-1670072400-1670086800@www.ballet.ph
SUMMARY:COMPANY REHEARSALS
DESCRIPTION:
URL:https://www.ballet.ph/bp-event/company-rehearsals-111/
END:VEVENT
END:VCALENDAR