BEGIN:VCALENDAR
VERSION:2.0
PRODID:-//Ballet Philippines - ECPv6.15.17//NONSGML v1.0//EN
CALSCALE:GREGORIAN
METHOD:PUBLISH
X-ORIGINAL-URL:https://www.ballet.ph
X-WR-CALDESC:Events for Ballet Philippines
REFRESH-INTERVAL;VALUE=DURATION:PT1H
X-Robots-Tag:noindex
X-PUBLISHED-TTL:PT1H
BEGIN:VTIMEZONE
TZID:Asia/Manila
BEGIN:STANDARD
TZOFFSETFROM:+0800
TZOFFSETTO:+0800
TZNAME:PST
DTSTART:20210101T000000
END:STANDARD
END:VTIMEZONE
BEGIN:VEVENT
DTSTART;TZID=Asia/Manila:20221208T100000
DTEND;TZID=Asia/Manila:20221208T120000
DTSTAMP:20260420T040235
CREATED:20221128T073621Z
LAST-MODIFIED:20221128T073621Z
UID:8687-1670493600-1670500800@www.ballet.ph
SUMMARY:MISHA MARTYNYUK COMPANY CLASS
DESCRIPTION:
URL:https://www.ballet.ph/bp-event/misha-martynyuk-company-class-171/
END:VEVENT
BEGIN:VEVENT
DTSTART;TZID=Asia/Manila:20221208T120000
DTEND;TZID=Asia/Manila:20221208T130000
DTSTAMP:20260420T040235
CREATED:20221128T074450Z
LAST-MODIFIED:20221128T074450Z
UID:8719-1670500800-1670504400@www.ballet.ph
SUMMARY:LUNCH BREAK
DESCRIPTION:
URL:https://www.ballet.ph/bp-event/lunch-break-114/
END:VEVENT
BEGIN:VEVENT
DTSTART;TZID=Asia/Manila:20221208T130000
DTEND;TZID=Asia/Manila:20221208T170000
DTSTAMP:20260420T040235
CREATED:20221128T074710Z
LAST-MODIFIED:20221128T074710Z
UID:8739-1670504400-1670518800@www.ballet.ph
SUMMARY:COMPANY REHEARSALS
DESCRIPTION:
URL:https://www.ballet.ph/bp-event/company-rehearsals-114/
END:VEVENT
END:VCALENDAR