BEGIN:VCALENDAR
VERSION:2.0
PRODID:-//Ballet Philippines - ECPv6.15.17//NONSGML v1.0//EN
CALSCALE:GREGORIAN
METHOD:PUBLISH
X-WR-CALNAME:Ballet Philippines
X-ORIGINAL-URL:https://www.ballet.ph
X-WR-CALDESC:Events for Ballet Philippines
REFRESH-INTERVAL;VALUE=DURATION:PT1H
X-Robots-Tag:noindex
X-PUBLISHED-TTL:PT1H
BEGIN:VTIMEZONE
TZID:Asia/Manila
BEGIN:STANDARD
TZOFFSETFROM:+0800
TZOFFSETTO:+0800
TZNAME:PST
DTSTART:20200101T000000
END:STANDARD
END:VTIMEZONE
BEGIN:VEVENT
DTSTART;TZID=Asia/Manila:20220112T103000
DTEND;TZID=Asia/Manila:20220112T114500
DTSTAMP:20260420T154507
CREATED:20220120T065435Z
LAST-MODIFIED:20220120T065435Z
UID:6373-1641983400-1641987900@www.ballet.ph
SUMMARY:JOSEPH PHILLIPS BALLET CLASS
DESCRIPTION:
URL:https://www.ballet.ph/bp-event/joseph-phillips-ballet-class-127/
END:VEVENT
BEGIN:VEVENT
DTSTART;TZID=Asia/Manila:20220112T090000
DTEND;TZID=Asia/Manila:20220112T094500
DTSTAMP:20260420T154507
CREATED:20220120T065317Z
LAST-MODIFIED:20220120T065317Z
UID:6363-1641978000-1641980700@www.ballet.ph
SUMMARY:MISHA MARTYNYUK GYMNASTIC EXERCISES
DESCRIPTION:
URL:https://www.ballet.ph/bp-event/misha-martynyuk-gymnastic-exercises-360/
END:VEVENT
BEGIN:VEVENT
DTSTART;TZID=Asia/Manila:20220111T103000
DTEND;TZID=Asia/Manila:20220111T114500
DTSTAMP:20260420T154507
CREATED:20220120T065544Z
LAST-MODIFIED:20220120T065544Z
UID:6372-1641897000-1641901500@www.ballet.ph
SUMMARY:JOSEPH PHILLIPS BALLET CLASS
DESCRIPTION:
URL:https://www.ballet.ph/bp-event/joseph-phillips-ballet-class-131/
END:VEVENT
BEGIN:VEVENT
DTSTART;TZID=Asia/Manila:20220111T090000
DTEND;TZID=Asia/Manila:20220111T094500
DTSTAMP:20260420T154507
CREATED:20220120T065305Z
LAST-MODIFIED:20220120T065305Z
UID:6362-1641891600-1641894300@www.ballet.ph
SUMMARY:MISHA MARTYNYUK GYMNASTIC EXERCISES
DESCRIPTION:
URL:https://www.ballet.ph/bp-event/misha-martynyuk-gymnastic-exercises-359/
END:VEVENT
BEGIN:VEVENT
DTSTART;VALUE=DATE:20220108
DTEND;VALUE=DATE:20220109
DTSTAMP:20260420T154507
CREATED:20220120T065141Z
LAST-MODIFIED:20220120T065141Z
UID:6354-1641600000-1641686399@www.ballet.ph
SUMMARY:[ ON HOLIDAY BREAK ]
DESCRIPTION:
URL:https://www.ballet.ph/bp-event/on-holiday-break-35/
END:VEVENT
BEGIN:VEVENT
DTSTART;VALUE=DATE:20220107
DTEND;VALUE=DATE:20220108
DTSTAMP:20260420T154507
CREATED:20220120T065136Z
LAST-MODIFIED:20220120T065136Z
UID:6353-1641513600-1641599999@www.ballet.ph
SUMMARY:[ ON HOLIDAY BREAK ]
DESCRIPTION:
URL:https://www.ballet.ph/bp-event/on-holiday-break-34/
END:VEVENT
BEGIN:VEVENT
DTSTART;VALUE=DATE:20220106
DTEND;VALUE=DATE:20220107
DTSTAMP:20260420T154507
CREATED:20220120T065131Z
LAST-MODIFIED:20220120T065131Z
UID:6352-1641427200-1641513599@www.ballet.ph
SUMMARY:[ ON HOLIDAY BREAK ]
DESCRIPTION:
URL:https://www.ballet.ph/bp-event/on-holiday-break-33/
END:VEVENT
BEGIN:VEVENT
DTSTART;VALUE=DATE:20220105
DTEND;VALUE=DATE:20220106
DTSTAMP:20260420T154507
CREATED:20220120T065125Z
LAST-MODIFIED:20220120T065125Z
UID:6351-1641340800-1641427199@www.ballet.ph
SUMMARY:[ ON HOLIDAY BREAK ]
DESCRIPTION:
URL:https://www.ballet.ph/bp-event/on-holiday-break-32/
END:VEVENT
BEGIN:VEVENT
DTSTART;VALUE=DATE:20220104
DTEND;VALUE=DATE:20220105
DTSTAMP:20260420T154507
CREATED:20220120T065120Z
LAST-MODIFIED:20220120T065120Z
UID:6350-1641254400-1641340799@www.ballet.ph
SUMMARY:[ ON HOLIDAY BREAK ]
DESCRIPTION:
URL:https://www.ballet.ph/bp-event/on-holiday-break-31/
END:VEVENT
BEGIN:VEVENT
DTSTART;VALUE=DATE:20220101
DTEND;VALUE=DATE:20220102
DTSTAMP:20260420T154507
CREATED:20220120T065115Z
LAST-MODIFIED:20220120T065115Z
UID:6355-1640995200-1641081599@www.ballet.ph
SUMMARY:[ ON HOLIDAY BREAK ]
DESCRIPTION:
URL:https://www.ballet.ph/bp-event/on-holiday-break-30/
END:VEVENT
BEGIN:VEVENT
DTSTART;VALUE=DATE:20211231
DTEND;VALUE=DATE:20220101
DTSTAMP:20260420T154507
CREATED:20211203T150907Z
LAST-MODIFIED:20211203T150907Z
UID:6252-1640908800-1640995199@www.ballet.ph
SUMMARY:[On Holiday Break]
DESCRIPTION:
URL:https://www.ballet.ph/bp-event/on-holiday-break-29/
END:VEVENT
BEGIN:VEVENT
DTSTART;VALUE=DATE:20211230
DTEND;VALUE=DATE:20211231
DTSTAMP:20260420T154507
CREATED:20211203T150847Z
LAST-MODIFIED:20211203T150858Z
UID:6251-1640822400-1640908799@www.ballet.ph
SUMMARY:[On Holiday Break]
DESCRIPTION:
URL:https://www.ballet.ph/bp-event/on-holiday-breakon-holiday-break/
END:VEVENT
BEGIN:VEVENT
DTSTART;VALUE=DATE:20211229
DTEND;VALUE=DATE:20211230
DTSTAMP:20260420T154507
CREATED:20211203T150842Z
LAST-MODIFIED:20211203T150842Z
UID:6236-1640736000-1640822399@www.ballet.ph
SUMMARY:[On Holiday Break]
DESCRIPTION:
URL:https://www.ballet.ph/bp-event/on-holiday-break-28/
END:VEVENT
BEGIN:VEVENT
DTSTART;VALUE=DATE:20211228
DTEND;VALUE=DATE:20211229
DTSTAMP:20260420T154507
CREATED:20211203T150830Z
LAST-MODIFIED:20211203T150830Z
UID:6250-1640649600-1640735999@www.ballet.ph
SUMMARY:[On Holiday Break]
DESCRIPTION:
URL:https://www.ballet.ph/bp-event/on-holiday-break-27/
END:VEVENT
BEGIN:VEVENT
DTSTART;VALUE=DATE:20211227
DTEND;VALUE=DATE:20211228
DTSTAMP:20260420T154507
CREATED:20211203T150741Z
LAST-MODIFIED:20211203T150814Z
UID:6249-1640563200-1640649599@www.ballet.ph
SUMMARY:[On Holiday Break]
DESCRIPTION:
URL:https://www.ballet.ph/bp-event/on-holiday-break-26/
END:VEVENT
BEGIN:VEVENT
DTSTART;VALUE=DATE:20211225
DTEND;VALUE=DATE:20211226
DTSTAMP:20260420T154507
CREATED:20211203T150657Z
LAST-MODIFIED:20211203T150657Z
UID:6235-1640390400-1640476799@www.ballet.ph
SUMMARY:[On Holiday Break] CHRISTMAS DAY
DESCRIPTION:
URL:https://www.ballet.ph/bp-event/on-holiday-break-christmas-day/
END:VEVENT
BEGIN:VEVENT
DTSTART;VALUE=DATE:20211224
DTEND;VALUE=DATE:20211225
DTSTAMP:20260420T154507
CREATED:20211203T150438Z
LAST-MODIFIED:20211203T150614Z
UID:6241-1640304000-1640390399@www.ballet.ph
SUMMARY:[On Holiday Break] CHRISTMAS EVE
DESCRIPTION:
URL:https://www.ballet.ph/bp-event/on-holiday-break-christmas-eve/
END:VEVENT
BEGIN:VEVENT
DTSTART;VALUE=DATE:20211223
DTEND;VALUE=DATE:20211224
DTSTAMP:20260420T154507
CREATED:20211203T150647Z
LAST-MODIFIED:20211203T150647Z
UID:6242-1640217600-1640303999@www.ballet.ph
SUMMARY:[On Holiday Break]
DESCRIPTION:
URL:https://www.ballet.ph/bp-event/on-holiday-break-25/
END:VEVENT
BEGIN:VEVENT
DTSTART;VALUE=DATE:20211222
DTEND;VALUE=DATE:20211223
DTSTAMP:20260420T154507
CREATED:20211203T150414Z
LAST-MODIFIED:20211203T150414Z
UID:6240-1640131200-1640217599@www.ballet.ph
SUMMARY:BP CHRISTMAS PARTY
DESCRIPTION:
URL:https://www.ballet.ph/bp-event/bp-christmas-party/
END:VEVENT
BEGIN:VEVENT
DTSTART;TZID=Asia/Manila:20211221T153000
DTEND;TZID=Asia/Manila:20211221T180000
DTSTAMP:20260420T154507
CREATED:20211203T150337Z
LAST-MODIFIED:20211203T150337Z
UID:6233-1640100600-1640109600@www.ballet.ph
SUMMARY:MISHA MARTYNYUK GYMNASTIC EXERCISES
DESCRIPTION:
URL:https://www.ballet.ph/bp-event/misha-martynyuk-gymnastic-exercises-358/
END:VEVENT
BEGIN:VEVENT
DTSTART;TZID=Asia/Manila:20211221T140000
DTEND;TZID=Asia/Manila:20211221T150000
DTSTAMP:20260420T154507
CREATED:20211203T150351Z
LAST-MODIFIED:20211203T150351Z
UID:6234-1640095200-1640098800@www.ballet.ph
SUMMARY:COMPANY CLASS
DESCRIPTION:
URL:https://www.ballet.ph/bp-event/company-class-15/
END:VEVENT
BEGIN:VEVENT
DTSTART;TZID=Asia/Manila:20211221T090000
DTEND;TZID=Asia/Manila:20211221T094500
DTSTAMP:20260420T154507
CREATED:20211203T150329Z
LAST-MODIFIED:20211203T150329Z
UID:6232-1640077200-1640079900@www.ballet.ph
SUMMARY:MISHA MARTYNYUK GYMNASTIC EXERCISES
DESCRIPTION:
URL:https://www.ballet.ph/bp-event/misha-martynyuk-gymnastic-exercises-357/
END:VEVENT
BEGIN:VEVENT
DTSTART;TZID=Asia/Manila:20211218T153000
DTEND;TZID=Asia/Manila:20211218T180000
DTSTAMP:20260420T154507
CREATED:20211203T150119Z
LAST-MODIFIED:20211203T150119Z
UID:6216-1639841400-1639850400@www.ballet.ph
SUMMARY:MISHA MARTYNYUK REHEARSAL
DESCRIPTION:
URL:https://www.ballet.ph/bp-event/misha-martynyuk-rehearsal-19/
END:VEVENT
BEGIN:VEVENT
DTSTART;TZID=Asia/Manila:20211218T140000
DTEND;TZID=Asia/Manila:20211218T150000
DTSTAMP:20260420T154507
CREATED:20211203T151119Z
LAST-MODIFIED:20211203T151119Z
UID:6260-1639836000-1639839600@www.ballet.ph
SUMMARY:COMPANY CLASS
DESCRIPTION:
URL:https://www.ballet.ph/bp-event/company-class-14/
END:VEVENT
BEGIN:VEVENT
DTSTART;TZID=Asia/Manila:20211218T090000
DTEND;TZID=Asia/Manila:20211218T094500
DTSTAMP:20260420T154507
CREATED:20211203T145933Z
LAST-MODIFIED:20211203T145933Z
UID:6206-1639818000-1639820700@www.ballet.ph
SUMMARY:MISHA MARTYNYUK REHEARSAL
DESCRIPTION:
URL:https://www.ballet.ph/bp-event/misha-martynyuk-rehearsal-10/
END:VEVENT
BEGIN:VEVENT
DTSTART;TZID=Asia/Manila:20211217T153000
DTEND;TZID=Asia/Manila:20211217T180000
DTSTAMP:20260420T154507
CREATED:20211203T150107Z
LAST-MODIFIED:20211203T150107Z
UID:6215-1639755000-1639764000@www.ballet.ph
SUMMARY:MISHA MARTYNYUK REHEARSAL
DESCRIPTION:
URL:https://www.ballet.ph/bp-event/misha-martynyuk-rehearsal-18/
END:VEVENT
BEGIN:VEVENT
DTSTART;TZID=Asia/Manila:20211217T140000
DTEND;TZID=Asia/Manila:20211217T150000
DTSTAMP:20260420T154507
CREATED:20211203T150235Z
LAST-MODIFIED:20211203T150235Z
UID:6225-1639749600-1639753200@www.ballet.ph
SUMMARY:COMPANY CLASS
DESCRIPTION:
URL:https://www.ballet.ph/bp-event/company-class-13/
END:VEVENT
BEGIN:VEVENT
DTSTART;TZID=Asia/Manila:20211217T090000
DTEND;TZID=Asia/Manila:20211217T094500
DTSTAMP:20260420T154507
CREATED:20211203T145944Z
LAST-MODIFIED:20211203T145944Z
UID:6205-1639731600-1639734300@www.ballet.ph
SUMMARY:MISHA MARTYNYUK REHEARSAL
DESCRIPTION:
URL:https://www.ballet.ph/bp-event/misha-martynyuk-rehearsal-11/
END:VEVENT
BEGIN:VEVENT
DTSTART;TZID=Asia/Manila:20211216T153000
DTEND;TZID=Asia/Manila:20211216T180000
DTSTAMP:20260420T154507
CREATED:20211203T150057Z
LAST-MODIFIED:20211203T150057Z
UID:6214-1639668600-1639677600@www.ballet.ph
SUMMARY:MISHA MARTYNYUK REHEARSAL
DESCRIPTION:
URL:https://www.ballet.ph/bp-event/misha-martynyuk-rehearsal-17/
END:VEVENT
BEGIN:VEVENT
DTSTART;TZID=Asia/Manila:20211216T140000
DTEND;TZID=Asia/Manila:20211216T150000
DTSTAMP:20260420T154507
CREATED:20211203T150226Z
LAST-MODIFIED:20211203T150226Z
UID:6224-1639663200-1639666800@www.ballet.ph
SUMMARY:COMPANY CLASS
DESCRIPTION:
URL:https://www.ballet.ph/bp-event/company-class-12/
END:VEVENT
END:VCALENDAR