BEGIN:VCALENDAR
VERSION:2.0
PRODID:-//Ballet Philippines - ECPv6.15.17//NONSGML v1.0//EN
CALSCALE:GREGORIAN
METHOD:PUBLISH
X-WR-CALNAME:Ballet Philippines
X-ORIGINAL-URL:https://www.ballet.ph
X-WR-CALDESC:Events for Ballet Philippines
REFRESH-INTERVAL;VALUE=DURATION:PT1H
X-Robots-Tag:noindex
X-PUBLISHED-TTL:PT1H
BEGIN:VTIMEZONE
TZID:Asia/Manila
BEGIN:STANDARD
TZOFFSETFROM:+0800
TZOFFSETTO:+0800
TZNAME:PST
DTSTART:20210101T000000
END:STANDARD
END:VTIMEZONE
BEGIN:VEVENT
DTSTART;TZID=Asia/Manila:20220305T164500
DTEND;TZID=Asia/Manila:20220305T200000
DTSTAMP:20260420T154631
CREATED:20220301T051426Z
LAST-MODIFIED:20220301T051426Z
UID:6695-1646498700-1646510400@www.ballet.ph
SUMMARY:COMPANY REHEARSAL
DESCRIPTION:
URL:https://www.ballet.ph/bp-event/company-rehearsal-5/
END:VEVENT
BEGIN:VEVENT
DTSTART;TZID=Asia/Manila:20220305T144500
DTEND;TZID=Asia/Manila:20220305T163000
DTSTAMP:20260420T154631
CREATED:20220301T051555Z
LAST-MODIFIED:20220301T051555Z
UID:6703-1646491500-1646497800@www.ballet.ph
SUMMARY:MISHA MARTYNYUK COMPANY CLASS
DESCRIPTION:
URL:https://www.ballet.ph/bp-event/misha-martynyuk-company-class-45/
END:VEVENT
BEGIN:VEVENT
DTSTART;TZID=Asia/Manila:20220305T140000
DTEND;TZID=Asia/Manila:20220305T143000
DTSTAMP:20260420T154631
CREATED:20220301T051708Z
LAST-MODIFIED:20220301T051708Z
UID:6711-1646488800-1646490600@www.ballet.ph
SUMMARY:MISHA MARTYNYUK GYMNASTIC EXERCISE
DESCRIPTION:
URL:https://www.ballet.ph/bp-event/misha-martynyuk-gymnastic-exercise-5/
END:VEVENT
BEGIN:VEVENT
DTSTART;TZID=Asia/Manila:20220305T100000
DTEND;TZID=Asia/Manila:20220305T113000
DTSTAMP:20260420T154631
CREATED:20220301T052421Z
LAST-MODIFIED:20220301T052421Z
UID:6718-1646474400-1646479800@www.ballet.ph
SUMMARY:JOSEPH PHILLIPS OPEN CLASS
DESCRIPTION:
URL:https://www.ballet.ph/bp-event/joseph-phillips-open-class-5/
END:VEVENT
BEGIN:VEVENT
DTSTART;TZID=Asia/Manila:20220304T164500
DTEND;TZID=Asia/Manila:20220304T200000
DTSTAMP:20260420T154631
CREATED:20220301T051414Z
LAST-MODIFIED:20220301T051414Z
UID:6694-1646412300-1646424000@www.ballet.ph
SUMMARY:COMPANY REHEARSAL
DESCRIPTION:
URL:https://www.ballet.ph/bp-event/company-rehearsal-4/
END:VEVENT
BEGIN:VEVENT
DTSTART;TZID=Asia/Manila:20220304T144500
DTEND;TZID=Asia/Manila:20220304T163000
DTSTAMP:20260420T154631
CREATED:20220301T052649Z
LAST-MODIFIED:20220301T052649Z
UID:6726-1646405100-1646411400@www.ballet.ph
SUMMARY:MISHA MARTYNYUK COMPANY CLASS
DESCRIPTION:
URL:https://www.ballet.ph/bp-event/misha-martynyuk-company-class-46/
END:VEVENT
BEGIN:VEVENT
DTSTART;TZID=Asia/Manila:20220304T140000
DTEND;TZID=Asia/Manila:20220304T143000
DTSTAMP:20260420T154631
CREATED:20220301T051659Z
LAST-MODIFIED:20220301T051659Z
UID:6710-1646402400-1646404200@www.ballet.ph
SUMMARY:MISHA MARTYNYUK GYMNASTIC EXERCISE
DESCRIPTION:
URL:https://www.ballet.ph/bp-event/misha-martynyuk-gymnastic-exercise-4/
END:VEVENT
BEGIN:VEVENT
DTSTART;TZID=Asia/Manila:20220304T100000
DTEND;TZID=Asia/Manila:20220304T113000
DTSTAMP:20260420T154631
CREATED:20220301T051538Z
LAST-MODIFIED:20220301T052529Z
UID:6702-1646388000-1646393400@www.ballet.ph
SUMMARY:JOSEPH PHILLIPS OPEN CLASS
DESCRIPTION:
URL:https://www.ballet.ph/bp-event/misha-martynyuk-company-class-44/
END:VEVENT
BEGIN:VEVENT
DTSTART;TZID=Asia/Manila:20220303T164500
DTEND;TZID=Asia/Manila:20220303T200000
DTSTAMP:20260420T154631
CREATED:20220301T051405Z
LAST-MODIFIED:20220301T051405Z
UID:6693-1646325900-1646337600@www.ballet.ph
SUMMARY:COMPANY REHEARSAL
DESCRIPTION:
URL:https://www.ballet.ph/bp-event/company-rehearsal-3/
END:VEVENT
BEGIN:VEVENT
DTSTART;TZID=Asia/Manila:20220303T144500
DTEND;TZID=Asia/Manila:20220303T163000
DTSTAMP:20260420T154631
CREATED:20220301T051525Z
LAST-MODIFIED:20220301T051525Z
UID:6701-1646318700-1646325000@www.ballet.ph
SUMMARY:MISHA MARTYNYUK COMPANY CLASS
DESCRIPTION:
URL:https://www.ballet.ph/bp-event/misha-martynyuk-company-class-43/
END:VEVENT
BEGIN:VEVENT
DTSTART;TZID=Asia/Manila:20220303T140000
DTEND;TZID=Asia/Manila:20220303T143000
DTSTAMP:20260420T154631
CREATED:20220301T051650Z
LAST-MODIFIED:20220301T051650Z
UID:6709-1646316000-1646317800@www.ballet.ph
SUMMARY:MISHA MARTYNYUK GYMNASTIC EXERCISE
DESCRIPTION:
URL:https://www.ballet.ph/bp-event/misha-martynyuk-gymnastic-exercise-3/
END:VEVENT
BEGIN:VEVENT
DTSTART;TZID=Asia/Manila:20220303T100000
DTEND;TZID=Asia/Manila:20220303T113000
DTSTAMP:20260420T154631
CREATED:20220301T052356Z
LAST-MODIFIED:20220301T052356Z
UID:6717-1646301600-1646307000@www.ballet.ph
SUMMARY:JOSEPH PHILLIPS OPEN CLASS
DESCRIPTION:
URL:https://www.ballet.ph/bp-event/joseph-phillips-open-class-3/
END:VEVENT
BEGIN:VEVENT
DTSTART;TZID=Asia/Manila:20220302T164500
DTEND;TZID=Asia/Manila:20220302T200000
DTSTAMP:20260420T154631
CREATED:20220301T051354Z
LAST-MODIFIED:20220301T051354Z
UID:6692-1646239500-1646251200@www.ballet.ph
SUMMARY:COMPANY REHEARSAL
DESCRIPTION:
URL:https://www.ballet.ph/bp-event/company-rehearsal-2/
END:VEVENT
BEGIN:VEVENT
DTSTART;TZID=Asia/Manila:20220302T144500
DTEND;TZID=Asia/Manila:20220302T163000
DTSTAMP:20260420T154631
CREATED:20220301T051511Z
LAST-MODIFIED:20220301T051608Z
UID:6700-1646232300-1646238600@www.ballet.ph
SUMMARY:MISHA MARTYNYUK COMPANY CLASS
DESCRIPTION:
URL:https://www.ballet.ph/bp-event/misha-martynyuk-company-class-42/
END:VEVENT
BEGIN:VEVENT
DTSTART;TZID=Asia/Manila:20220302T140000
DTEND;TZID=Asia/Manila:20220302T143000
DTSTAMP:20260420T154631
CREATED:20220301T051641Z
LAST-MODIFIED:20220301T051641Z
UID:6708-1646229600-1646231400@www.ballet.ph
SUMMARY:MISHA MARTYNYUK GYMNASTIC EXERCISE
DESCRIPTION:
URL:https://www.ballet.ph/bp-event/misha-martynyuk-gymnastic-exercise-2/
END:VEVENT
BEGIN:VEVENT
DTSTART;TZID=Asia/Manila:20220302T100000
DTEND;TZID=Asia/Manila:20220302T113000
DTSTAMP:20260420T154631
CREATED:20220301T052344Z
LAST-MODIFIED:20220301T052344Z
UID:6716-1646215200-1646220600@www.ballet.ph
SUMMARY:JOSEPH PHILLIPS OPEN CLASS
DESCRIPTION:
URL:https://www.ballet.ph/bp-event/joseph-phillips-open-class-2/
END:VEVENT
BEGIN:VEVENT
DTSTART;TZID=Asia/Manila:20220301T164500
DTEND;TZID=Asia/Manila:20220301T200000
DTSTAMP:20260420T154631
CREATED:20220301T051119Z
LAST-MODIFIED:20220301T051119Z
UID:6690-1646153100-1646164800@www.ballet.ph
SUMMARY:COMPANY REHEARSAL
DESCRIPTION:
URL:https://www.ballet.ph/bp-event/company-rehearsal/
END:VEVENT
BEGIN:VEVENT
DTSTART;TZID=Asia/Manila:20220301T144500
DTEND;TZID=Asia/Manila:20220301T163000
DTSTAMP:20260420T154631
CREATED:20220301T051032Z
LAST-MODIFIED:20220301T051032Z
UID:6688-1646145900-1646152200@www.ballet.ph
SUMMARY:MISHA MARTYNYUK COMPANY CLASS
DESCRIPTION:
URL:https://www.ballet.ph/bp-event/misha-martynyuk-company-class-41/
END:VEVENT
BEGIN:VEVENT
DTSTART;TZID=Asia/Manila:20220301T140000
DTEND;TZID=Asia/Manila:20220301T143000
DTSTAMP:20260420T154631
CREATED:20220301T051013Z
LAST-MODIFIED:20220301T051013Z
UID:6686-1646143200-1646145000@www.ballet.ph
SUMMARY:MISHA MARTYNYUK GYMNASTIC EXERCISE
DESCRIPTION:
URL:https://www.ballet.ph/bp-event/misha-martynyuk-gymnastic-exercise/
END:VEVENT
BEGIN:VEVENT
DTSTART;TZID=Asia/Manila:20220301T100000
DTEND;TZID=Asia/Manila:20220301T113000
DTSTAMP:20260420T154631
CREATED:20220301T052406Z
LAST-MODIFIED:20220301T052406Z
UID:6719-1646128800-1646134200@www.ballet.ph
SUMMARY:JOSEPH PHILLIPS OPEN CLASS
DESCRIPTION:
URL:https://www.ballet.ph/bp-event/joseph-phillips-open-class-4/
END:VEVENT
BEGIN:VEVENT
DTSTART;TZID=Asia/Manila:20220226T170000
DTEND;TZID=Asia/Manila:20220226T200000
DTSTAMP:20260420T154631
CREATED:20220120T091639Z
LAST-MODIFIED:20220120T091639Z
UID:6555-1645894800-1645905600@www.ballet.ph
SUMMARY:REHEARSAL
DESCRIPTION:
URL:https://www.ballet.ph/bp-event/rehearsal-135/
END:VEVENT
BEGIN:VEVENT
DTSTART;TZID=Asia/Manila:20220226T150000
DTEND;TZID=Asia/Manila:20220226T170000
DTSTAMP:20260420T154631
CREATED:20220120T091332Z
LAST-MODIFIED:20220120T091332Z
UID:6535-1645887600-1645894800@www.ballet.ph
SUMMARY:JOSEPH PHILLIPS BALLET CLASS
DESCRIPTION:
URL:https://www.ballet.ph/bp-event/joseph-phillips-ballet-class-161/
END:VEVENT
BEGIN:VEVENT
DTSTART;TZID=Asia/Manila:20220226T140000
DTEND;TZID=Asia/Manila:20220226T144500
DTSTAMP:20260420T154631
CREATED:20220120T080845Z
LAST-MODIFIED:20220120T080845Z
UID:6474-1645884000-1645886700@www.ballet.ph
SUMMARY:MISHA MARTYNYUK CARDIO TRAINING
DESCRIPTION:
URL:https://www.ballet.ph/bp-event/misha-martynyuk-cardio-training-30/
END:VEVENT
BEGIN:VEVENT
DTSTART;TZID=Asia/Manila:20220225T170000
DTEND;TZID=Asia/Manila:20220225T200000
DTSTAMP:20260420T154631
CREATED:20220120T091627Z
LAST-MODIFIED:20220120T091627Z
UID:6554-1645808400-1645819200@www.ballet.ph
SUMMARY:REHEARSAL
DESCRIPTION:
URL:https://www.ballet.ph/bp-event/rehearsal-134/
END:VEVENT
BEGIN:VEVENT
DTSTART;TZID=Asia/Manila:20220225T150000
DTEND;TZID=Asia/Manila:20220225T170000
DTSTAMP:20260420T154631
CREATED:20220120T091325Z
LAST-MODIFIED:20220120T091325Z
UID:6534-1645801200-1645808400@www.ballet.ph
SUMMARY:JOSEPH PHILLIPS BALLET CLASS
DESCRIPTION:
URL:https://www.ballet.ph/bp-event/joseph-phillips-ballet-class-160/
END:VEVENT
BEGIN:VEVENT
DTSTART;TZID=Asia/Manila:20220225T140000
DTEND;TZID=Asia/Manila:20220225T144500
DTSTAMP:20260420T154631
CREATED:20220120T080834Z
LAST-MODIFIED:20220120T080834Z
UID:6473-1645797600-1645800300@www.ballet.ph
SUMMARY:MISHA MARTYNYUK CARDIO TRAINING
DESCRIPTION:
URL:https://www.ballet.ph/bp-event/misha-martynyuk-cardio-training-29/
END:VEVENT
BEGIN:VEVENT
DTSTART;TZID=Asia/Manila:20220224T170000
DTEND;TZID=Asia/Manila:20220224T200000
DTSTAMP:20260420T154631
CREATED:20220120T091616Z
LAST-MODIFIED:20220120T091616Z
UID:6553-1645722000-1645732800@www.ballet.ph
SUMMARY:REHEARSAL
DESCRIPTION:
URL:https://www.ballet.ph/bp-event/rehearsal-133/
END:VEVENT
BEGIN:VEVENT
DTSTART;TZID=Asia/Manila:20220224T150000
DTEND;TZID=Asia/Manila:20220224T170000
DTSTAMP:20260420T154631
CREATED:20220120T091317Z
LAST-MODIFIED:20220120T091317Z
UID:6533-1645714800-1645722000@www.ballet.ph
SUMMARY:JOSEPH PHILLIPS BALLET CLASS
DESCRIPTION:
URL:https://www.ballet.ph/bp-event/joseph-phillips-ballet-class-159/
END:VEVENT
BEGIN:VEVENT
DTSTART;TZID=Asia/Manila:20220224T140000
DTEND;TZID=Asia/Manila:20220224T144500
DTSTAMP:20260420T154631
CREATED:20220120T080823Z
LAST-MODIFIED:20220120T080823Z
UID:6472-1645711200-1645713900@www.ballet.ph
SUMMARY:MISHA MARTYNYUK CARDIO TRAINING
DESCRIPTION:
URL:https://www.ballet.ph/bp-event/misha-martynyuk-cardio-training-28/
END:VEVENT
BEGIN:VEVENT
DTSTART;TZID=Asia/Manila:20220223T170000
DTEND;TZID=Asia/Manila:20220223T200000
DTSTAMP:20260420T154631
CREATED:20220120T091537Z
LAST-MODIFIED:20220120T091552Z
UID:6552-1645635600-1645646400@www.ballet.ph
SUMMARY:REHEARSAL
DESCRIPTION:
URL:https://www.ballet.ph/bp-event/rehearsal-132/
END:VEVENT
END:VCALENDAR