BEGIN:VCALENDAR
VERSION:2.0
PRODID:-//Ballet Philippines - ECPv6.15.17//NONSGML v1.0//EN
CALSCALE:GREGORIAN
METHOD:PUBLISH
X-WR-CALNAME:Ballet Philippines
X-ORIGINAL-URL:https://www.ballet.ph
X-WR-CALDESC:Events for Ballet Philippines
REFRESH-INTERVAL;VALUE=DURATION:PT1H
X-Robots-Tag:noindex
X-PUBLISHED-TTL:PT1H
BEGIN:VTIMEZONE
TZID:Asia/Manila
BEGIN:STANDARD
TZOFFSETFROM:+0800
TZOFFSETTO:+0800
TZNAME:PST
DTSTART:20210101T000000
END:STANDARD
END:VTIMEZONE
BEGIN:VEVENT
DTSTART;TZID=Asia/Manila:20220201T140000
DTEND;TZID=Asia/Manila:20220201T144500
DTSTAMP:20260420T153936
CREATED:20220120T080415Z
LAST-MODIFIED:20220120T080415Z
UID:6449-1643724000-1643726700@www.ballet.ph
SUMMARY:MISHA MARTYNYUK CARDIO TRAINING
DESCRIPTION:
URL:https://www.ballet.ph/bp-event/misha-martynyuk-cardio-training-12/
END:VEVENT
BEGIN:VEVENT
DTSTART;TZID=Asia/Manila:20220201T150000
DTEND;TZID=Asia/Manila:20220201T170000
DTSTAMP:20260420T153936
CREATED:20220120T081702Z
LAST-MODIFIED:20220120T081702Z
UID:6485-1643727600-1643734800@www.ballet.ph
SUMMARY:JOSEPH PHILLIPS BALLET CLASS
DESCRIPTION:
URL:https://www.ballet.ph/bp-event/joseph-phillips-ballet-class-142/
END:VEVENT
BEGIN:VEVENT
DTSTART;TZID=Asia/Manila:20220201T170000
DTEND;TZID=Asia/Manila:20220201T200000
DTSTAMP:20260420T153936
CREATED:20220120T081941Z
LAST-MODIFIED:20220120T081941Z
UID:6507-1643734800-1643745600@www.ballet.ph
SUMMARY:REHEARSAL
DESCRIPTION:
URL:https://www.ballet.ph/bp-event/rehearsal-116/
END:VEVENT
BEGIN:VEVENT
DTSTART;TZID=Asia/Manila:20220202T140000
DTEND;TZID=Asia/Manila:20220202T144500
DTSTAMP:20260420T153936
CREATED:20220120T080429Z
LAST-MODIFIED:20220120T080429Z
UID:6445-1643810400-1643813100@www.ballet.ph
SUMMARY:MISHA MARTYNYUK CARDIO TRAINING
DESCRIPTION:
URL:https://www.ballet.ph/bp-event/misha-martynyuk-cardio-training-13/
END:VEVENT
BEGIN:VEVENT
DTSTART;TZID=Asia/Manila:20220202T150000
DTEND;TZID=Asia/Manila:20220202T170000
DTSTAMP:20260420T153936
CREATED:20220120T081710Z
LAST-MODIFIED:20220120T081710Z
UID:6486-1643814000-1643821200@www.ballet.ph
SUMMARY:JOSEPH PHILLIPS BALLET CLASS
DESCRIPTION:
URL:https://www.ballet.ph/bp-event/joseph-phillips-ballet-class-143/
END:VEVENT
BEGIN:VEVENT
DTSTART;TZID=Asia/Manila:20220202T170000
DTEND;TZID=Asia/Manila:20220202T200000
DTSTAMP:20260420T153936
CREATED:20220120T081950Z
LAST-MODIFIED:20220120T081950Z
UID:6506-1643821200-1643832000@www.ballet.ph
SUMMARY:REHEARSAL
DESCRIPTION:
URL:https://www.ballet.ph/bp-event/rehearsal-117/
END:VEVENT
BEGIN:VEVENT
DTSTART;TZID=Asia/Manila:20220203T140000
DTEND;TZID=Asia/Manila:20220203T144500
DTSTAMP:20260420T153936
CREATED:20220120T080439Z
LAST-MODIFIED:20220120T080439Z
UID:6446-1643896800-1643899500@www.ballet.ph
SUMMARY:MISHA MARTYNYUK CARDIO TRAINING
DESCRIPTION:
URL:https://www.ballet.ph/bp-event/misha-martynyuk-cardio-training-14/
END:VEVENT
BEGIN:VEVENT
DTSTART;TZID=Asia/Manila:20220203T150000
DTEND;TZID=Asia/Manila:20220203T170000
DTSTAMP:20260420T153936
CREATED:20220120T081717Z
LAST-MODIFIED:20220120T081717Z
UID:6487-1643900400-1643907600@www.ballet.ph
SUMMARY:JOSEPH PHILLIPS BALLET CLASS
DESCRIPTION:
URL:https://www.ballet.ph/bp-event/joseph-phillips-ballet-class-144/
END:VEVENT
BEGIN:VEVENT
DTSTART;TZID=Asia/Manila:20220203T170000
DTEND;TZID=Asia/Manila:20220203T200000
DTSTAMP:20260420T153936
CREATED:20220120T082008Z
LAST-MODIFIED:20220120T082008Z
UID:6505-1643907600-1643918400@www.ballet.ph
SUMMARY:REHEARSAL
DESCRIPTION:
URL:https://www.ballet.ph/bp-event/rehearsal-118/
END:VEVENT
BEGIN:VEVENT
DTSTART;TZID=Asia/Manila:20220204T140000
DTEND;TZID=Asia/Manila:20220204T144500
DTSTAMP:20260420T153936
CREATED:20220120T080449Z
LAST-MODIFIED:20220120T080449Z
UID:6447-1643983200-1643985900@www.ballet.ph
SUMMARY:MISHA MARTYNYUK CARDIO TRAINING
DESCRIPTION:
URL:https://www.ballet.ph/bp-event/misha-martynyuk-cardio-training-15/
END:VEVENT
BEGIN:VEVENT
DTSTART;TZID=Asia/Manila:20220204T150000
DTEND;TZID=Asia/Manila:20220204T170000
DTSTAMP:20260420T153936
CREATED:20220120T081725Z
LAST-MODIFIED:20220120T081725Z
UID:6488-1643986800-1643994000@www.ballet.ph
SUMMARY:JOSEPH PHILLIPS BALLET CLASS
DESCRIPTION:
URL:https://www.ballet.ph/bp-event/joseph-phillips-ballet-class-145/
END:VEVENT
BEGIN:VEVENT
DTSTART;TZID=Asia/Manila:20220204T170000
DTEND;TZID=Asia/Manila:20220204T200000
DTSTAMP:20260420T153936
CREATED:20220120T082019Z
LAST-MODIFIED:20220120T082019Z
UID:6508-1643994000-1644004800@www.ballet.ph
SUMMARY:REHEARSAL
DESCRIPTION:
URL:https://www.ballet.ph/bp-event/rehearsal-119/
END:VEVENT
BEGIN:VEVENT
DTSTART;TZID=Asia/Manila:20220205T140000
DTEND;TZID=Asia/Manila:20220205T144500
DTSTAMP:20260420T153936
CREATED:20220120T080500Z
LAST-MODIFIED:20220120T080500Z
UID:6448-1644069600-1644072300@www.ballet.ph
SUMMARY:MISHA MARTYNYUK CARDIO TRAINING
DESCRIPTION:
URL:https://www.ballet.ph/bp-event/misha-martynyuk-cardio-training-16/
END:VEVENT
BEGIN:VEVENT
DTSTART;TZID=Asia/Manila:20220205T150000
DTEND;TZID=Asia/Manila:20220205T170000
DTSTAMP:20260420T153936
CREATED:20220120T081737Z
LAST-MODIFIED:20220120T081737Z
UID:6489-1644073200-1644080400@www.ballet.ph
SUMMARY:JOSEPH PHILLIPS BALLET CLASS
DESCRIPTION:
URL:https://www.ballet.ph/bp-event/joseph-phillips-ballet-class-146/
END:VEVENT
BEGIN:VEVENT
DTSTART;TZID=Asia/Manila:20220205T170000
DTEND;TZID=Asia/Manila:20220205T200000
DTSTAMP:20260420T153936
CREATED:20220120T082034Z
LAST-MODIFIED:20220120T082034Z
UID:6509-1644080400-1644091200@www.ballet.ph
SUMMARY:REHEARSAL
DESCRIPTION:
URL:https://www.ballet.ph/bp-event/rehearsal-120/
END:VEVENT
BEGIN:VEVENT
DTSTART;TZID=Asia/Manila:20220208T140000
DTEND;TZID=Asia/Manila:20220208T144500
DTSTAMP:20260420T153936
CREATED:20220120T080525Z
LAST-MODIFIED:20220120T080525Z
UID:6450-1644328800-1644331500@www.ballet.ph
SUMMARY:MISHA MARTYNYUK CARDIO TRAINING
DESCRIPTION:
URL:https://www.ballet.ph/bp-event/misha-martynyuk-cardio-training-17/
END:VEVENT
BEGIN:VEVENT
DTSTART;TZID=Asia/Manila:20220208T150000
DTEND;TZID=Asia/Manila:20220208T170000
DTSTAMP:20260420T153936
CREATED:20220120T081745Z
LAST-MODIFIED:20220120T081745Z
UID:6490-1644332400-1644339600@www.ballet.ph
SUMMARY:JOSEPH PHILLIPS BALLET CLASS
DESCRIPTION:
URL:https://www.ballet.ph/bp-event/joseph-phillips-ballet-class-147/
END:VEVENT
BEGIN:VEVENT
DTSTART;TZID=Asia/Manila:20220208T170000
DTEND;TZID=Asia/Manila:20220208T200000
DTSTAMP:20260420T153936
CREATED:20220120T082043Z
LAST-MODIFIED:20220120T082043Z
UID:6510-1644339600-1644350400@www.ballet.ph
SUMMARY:REHEARSAL
DESCRIPTION:
URL:https://www.ballet.ph/bp-event/rehearsal-121/
END:VEVENT
BEGIN:VEVENT
DTSTART;TZID=Asia/Manila:20220209T140000
DTEND;TZID=Asia/Manila:20220209T144500
DTSTAMP:20260420T153936
CREATED:20220120T080535Z
LAST-MODIFIED:20220120T080535Z
UID:6451-1644415200-1644417900@www.ballet.ph
SUMMARY:MISHA MARTYNYUK CARDIO TRAINING
DESCRIPTION:
URL:https://www.ballet.ph/bp-event/misha-martynyuk-cardio-training-18/
END:VEVENT
BEGIN:VEVENT
DTSTART;TZID=Asia/Manila:20220209T150000
DTEND;TZID=Asia/Manila:20220209T170000
DTSTAMP:20260420T153936
CREATED:20220120T081800Z
LAST-MODIFIED:20220120T081800Z
UID:6491-1644418800-1644426000@www.ballet.ph
SUMMARY:JOSEPH PHILLIPS BALLET CLASS
DESCRIPTION:
URL:https://www.ballet.ph/bp-event/joseph-phillips-ballet-class-148/
END:VEVENT
BEGIN:VEVENT
DTSTART;TZID=Asia/Manila:20220209T170000
DTEND;TZID=Asia/Manila:20220209T200000
DTSTAMP:20260420T153936
CREATED:20220120T082053Z
LAST-MODIFIED:20220120T082053Z
UID:6515-1644426000-1644436800@www.ballet.ph
SUMMARY:REHEARSAL
DESCRIPTION:
URL:https://www.ballet.ph/bp-event/rehearsal-122/
END:VEVENT
BEGIN:VEVENT
DTSTART;TZID=Asia/Manila:20220210T140000
DTEND;TZID=Asia/Manila:20220210T144500
DTSTAMP:20260420T153936
CREATED:20220120T080544Z
LAST-MODIFIED:20220120T080544Z
UID:6452-1644501600-1644504300@www.ballet.ph
SUMMARY:MISHA MARTYNYUK CARDIO TRAINING
DESCRIPTION:
URL:https://www.ballet.ph/bp-event/misha-martynyuk-cardio-training-19/
END:VEVENT
BEGIN:VEVENT
DTSTART;TZID=Asia/Manila:20220210T150000
DTEND;TZID=Asia/Manila:20220210T170000
DTSTAMP:20260420T153936
CREATED:20220120T081812Z
LAST-MODIFIED:20220120T081812Z
UID:6492-1644505200-1644512400@www.ballet.ph
SUMMARY:JOSEPH PHILLIPS BALLET CLASS
DESCRIPTION:
URL:https://www.ballet.ph/bp-event/joseph-phillips-ballet-class-149/
END:VEVENT
BEGIN:VEVENT
DTSTART;TZID=Asia/Manila:20220210T170000
DTEND;TZID=Asia/Manila:20220210T200000
DTSTAMP:20260420T153936
CREATED:20220120T082138Z
LAST-MODIFIED:20220120T082138Z
UID:6512-1644512400-1644523200@www.ballet.ph
SUMMARY:REHEARSAL
DESCRIPTION:
URL:https://www.ballet.ph/bp-event/rehearsal-125/
END:VEVENT
BEGIN:VEVENT
DTSTART;TZID=Asia/Manila:20220211T140000
DTEND;TZID=Asia/Manila:20220211T144500
DTSTAMP:20260420T153936
CREATED:20220120T080556Z
LAST-MODIFIED:20220120T080556Z
UID:6453-1644588000-1644590700@www.ballet.ph
SUMMARY:MISHA MARTYNYUK CARDIO TRAINING
DESCRIPTION:
URL:https://www.ballet.ph/bp-event/misha-martynyuk-cardio-training-20/
END:VEVENT
BEGIN:VEVENT
DTSTART;TZID=Asia/Manila:20220211T150000
DTEND;TZID=Asia/Manila:20220211T170000
DTSTAMP:20260420T153936
CREATED:20220120T081818Z
LAST-MODIFIED:20220120T081818Z
UID:6493-1644591600-1644598800@www.ballet.ph
SUMMARY:JOSEPH PHILLIPS BALLET CLASS
DESCRIPTION:
URL:https://www.ballet.ph/bp-event/joseph-phillips-ballet-class-150/
END:VEVENT
BEGIN:VEVENT
DTSTART;TZID=Asia/Manila:20220211T170000
DTEND;TZID=Asia/Manila:20220211T200000
DTSTAMP:20260420T153936
CREATED:20220120T082112Z
LAST-MODIFIED:20220120T082112Z
UID:6513-1644598800-1644609600@www.ballet.ph
SUMMARY:REHEARSAL
DESCRIPTION:
URL:https://www.ballet.ph/bp-event/rehearsal-123/
END:VEVENT
BEGIN:VEVENT
DTSTART;TZID=Asia/Manila:20220212T140000
DTEND;TZID=Asia/Manila:20220212T144500
DTSTAMP:20260420T153936
CREATED:20220120T080605Z
LAST-MODIFIED:20220120T080605Z
UID:6454-1644674400-1644677100@www.ballet.ph
SUMMARY:MISHA MARTYNYUK CARDIO TRAINING
DESCRIPTION:
URL:https://www.ballet.ph/bp-event/misha-martynyuk-cardio-training-21/
END:VEVENT
BEGIN:VEVENT
DTSTART;TZID=Asia/Manila:20220212T150000
DTEND;TZID=Asia/Manila:20220212T170000
DTSTAMP:20260420T153936
CREATED:20220120T081826Z
LAST-MODIFIED:20220120T081826Z
UID:6494-1644678000-1644685200@www.ballet.ph
SUMMARY:JOSEPH PHILLIPS BALLET CLASS
DESCRIPTION:
URL:https://www.ballet.ph/bp-event/joseph-phillips-ballet-class-151/
END:VEVENT
BEGIN:VEVENT
DTSTART;TZID=Asia/Manila:20220212T170000
DTEND;TZID=Asia/Manila:20220212T200000
DTSTAMP:20260420T153936
CREATED:20220120T082121Z
LAST-MODIFIED:20220120T082121Z
UID:6514-1644685200-1644696000@www.ballet.ph
SUMMARY:REHEARSAL
DESCRIPTION:
URL:https://www.ballet.ph/bp-event/rehearsal-124/
END:VEVENT
END:VCALENDAR